BEGIN_USGS_DOQ_HEADER *
QUADRANGLE_NAME "NEWPORT BEACH" *
QUADRANT SE *
NORTH_LATITUDE 33 41 15.000 *
WEST_LONGITUDE -117 56 15.000 *
SOUTH_LATITUDE 33 37 30.000 *
EAST_LONGITUDE -117 52 30.000 *
PRODUCTION_DATE 1998 09 04 *
RASTER_ORDER LEFT_RIGHT/TOP_BOTTOM *
BAND_ORGANIZATION "SINGLE FILE" *
BAND_CONTENT BLACK&WHITE *
BITS_PER_PIXEL 8 *
SAMPLES_AND_LINES 6570 7620 *
HORIZONTAL_DATUM NAD83 *
HORIZONTAL_COORDINATE_SYSTEM UTM *
COORDINATE_ZONE 11 *
HORIZONTAL_UNITS METERS *
HORIZONTAL_RESOLUTION 1.000 *
SECONDARY_HORIZONTAL_DATUM NAD27 *
XY_ORIGIN 412650.000 3728220.000 *
SECONDARY_XY_ORIGIN 412730.671 3728023.735 *
NATION US *
STATE CA *
NW_QUAD_CORNER_XY 413106.661 3727901.805 *
NE_QUAD_CORNER_XY 418899.731 3727850.978 *
SE_QUAD_CORNER_XY 418841.075 3720921.174 *
SW_QUAD_CORNER_XY 413043.814 3720971.956 *
SECONDARY_NW_QUAD_XY 413104.720 3727708.378 *
SECONDARY_NE_QUAD_XY 418897.920 3727657.549 *
SECONDARY_SE_QUAD_XY 418839.265 3720727.951 *
SECONDARY_SW_QUAD_XY 413041.875 3720778.733 *
RMSE_XY 0.847 *
IMAGE_SOURCE "BLACK AND WHITE FILM" *
SOURCE_IMAGE_ID "NAPP 6875 60" *
SOURCE_IMAGE_DATE 1995 10 03 *
SOURCE_IMAGE_ID "NAPP 6875 62" *
SOURCE_IMAGE_DATE 1995 10 03 *
SOURCE_DEM_DATE 1981 01 01 *
AGENCY "WESTERN MAPPING CENTER (WMC)" *
PRODUCER "ANALYTICAL SURVEYS INC." *
PRODUCTION_SYSTEM "ORBIT OR_RECTIFY V.5.2" *
STANDARD_VERSION 1996 12 *
METADATA_DATE 1998 09 10 *
DATA_FILE_SIZE 50069970 *
BYTE_COUNT 6570 * * * * * * * * * * * * * * * * * * * * * * * * * * * * * * * * * * * * * *
END_USGS_HEADER *
