BEGIN_USGS_DOQ_HEADER *
QUADRANGLE_NAME "BLACK STAR CANYON" 3.45 or 7.5-min. name*
QUADRANT SW quadrant indicator if cell size = 3.75-minutes*
WEST_LONGITUDE -117 45 0.000 signed deg min sec SDDD MM SS.SSS*
EAST_LONGITUDE -117 41 15.000 signed deg min sec SDDD MM SS.SSS*
NORTH_LATITUDE 33 48 45.000 signed deg min sec SDDD MM SS.SSS*
SOUTH_LATITUDE 33 45 0.000 signed deg min sec SDDD MM SS.SSS*
PRODUCTION_DATE 1996 11 12 yyyy mm dd*
RASTER_ORDER LEFT_RIGHT/TOP_BOTTOM video display order*
BAND_ORGANIZATION "SINGLE FILE" single file or BSQ, or BIL or BIP*
BAND_CONTENT BLACK&WHITE black&white or red green blue*
BITS_PER_PIXEL 8 radiometric resolution*
SAMPLES_AND_LINES 6540 7590 number of columns and rows*
HORIZONTAL_DATUM NAD83 primary horizontal datum*
HORIZONTAL_COORDINATE_SYSTEM UTM *
COORDINATE_ZONE 11 coordinate system zone number*
HORIZONTAL_UNITS METERS coordinate system units*
HORIZONTAL_RESOLUTION 1.00 pixel horiz. ground sample distance*
SECONDARY_HORIZONTAL_DATUM NAD27 secondary horizontal datum*
XY_ORIGIN 430140.000 3741930.000 coord. of upper left pixel pri. datum*
SECONDARY_XY_ORIGIN 430220.529 3741733.694 coord upper left pixel sec datum*
NATION US nation code*
STATE CA state fip code*
NW_QUAD_CORNER_XY 430586.560 3741619.488 XY coords. of pri. NW quad corner*
NE_QUAD_CORNER_XY 436371.125 3741579.105 XY coords. of pri. NE quad corner*
SE_QUAD_CORNER_XY 436324.888 3734649.284 XY coords. of pri. SE quad corner*
SW_QUAD_CORNER_XY 430536.120 3734689.630 XY coords. of pri. SW quad corner*
SECONDARY_NW_QUAD_XY 430585.005 3741425.649 XY coords. - sec. NW quad cor.*
SECONDARY_NE_QUAD_XY 436369.699 3741385.265 XY coords. - sec. NE quad cor.*
SECONDARY_SE_QUAD_XY 436323.464 3734455.647 XY coords. - sec. SE quad cor.*
SECONDARY_SW_QUAD_XY 430534.566 3734495.995 XY coords. - sec. SW quad cor.*
RMSE_XY 1.70 doq horiz. accuracy*
IMAGE_SOURCE "BLACK AND WHITE FILM" b&w, cir, natural color, other*
SOURCE_IMAGE_ID "NAPP 6866 134" source image id*
SOURCE_IMAGE_DATE 1994 6 1 source image date as yyyy mm dd*
SOURCE_DEM_DATE 1996 11 12 source dem date yyyy mm dd*
AGENCY "WESTERN MAPPING CENTER (WMC)" oversight agency*
PRODUCER "Analytical Surveys" producer/contractor*
PRODUCTION_SYSTEM "ORBIT OR_RECTIFY V.5.2" production system*
STANDARD_VERSION 1996 12 version of DOQ standard*
METADATA_DATE 1997 6 13 date created or changed, yyyy mm dd*
DATA_FILE_SIZE 49645140 data set size in bytes*
BYTE_COUNT 6540 header byte count* * * * * * * * * * * * * * * * * * * * * * * * * * * * * * * * * * * * * * *
END_USGS_HEADER *
