BEGIN_USGS_DOQ_HEADER *
QUADRANGLE_NAME "ANAHEIM" *
QUADRANT SE *
NORTH_LATITUDE 33 48 45.000 *
WEST_LONGITUDE -117 56 15.000 *
SOUTH_LATITUDE 33 45 00.000 *
EAST_LONGITUDE -117 52 30.000 *
PRODUCTION_DATE 1998 09 02 *
RASTER_ORDER LEFT_RIGHT/TOP_BOTTOM *
BAND_ORGANIZATION "SINGLE FILE" *
BAND_CONTENT BLACK&WHITE *
BITS_PER_PIXEL 8 *
SAMPLES_AND_LINES 6570 7620 *
HORIZONTAL_DATUM NAD83 *
HORIZONTAL_COORDINATE_SYSTEM UTM *
COORDINATE_ZONE 11 *
HORIZONTAL_UNITS METERS *
HORIZONTAL_RESOLUTION 1.000 *
SECONDARY_HORIZONTAL_DATUM NAD27 *
XY_ORIGIN 412770.000 3742080.000 *
SECONDARY_XY_ORIGIN 412850.678 3741883.674 *
NATION US *
STATE CA *
NW_QUAD_CORNER_XY 413232.665 3741761.710 *
NE_QUAD_CORNER_XY 419017.333 3741710.790 *
SE_QUAD_CORNER_XY 418958.484 3734780.850 *
SW_QUAD_CORNER_XY 413169.611 3734831.724 *
SECONDARY_NW_QUAD_XY 413230.721 3741567.875 *
SECONDARY_NE_QUAD_XY 419015.519 3741516.953 *
SECONDARY_SE_QUAD_XY 418956.671 3734587.216 *
SECONDARY_SW_QUAD_XY 413167.669 3734638.091 *
RMSE_XY 0.773 *
IMAGE_SOURCE "BLACK AND WHITE FILM" *
SOURCE_IMAGE_ID "NAPP 6875 56" *
SOURCE_IMAGE_DATE 1995 10 03 *
SOURCE_DEM_DATE 1981 01 01 *
AGENCY "WESTERN MAPPING CENTER (WMC)" *
PRODUCER "ANALYTICAL SURVEYS INC." *
PRODUCTION_SYSTEM "ORBIT OR_RECTIFY V.5.2" *
STANDARD_VERSION 1996 12 *
METADATA_DATE 1998 09 10 *
DATA_FILE_SIZE 50069970 *
BYTE_COUNT 6570 * * * * * * * * * * * * * * * * * * * * * * * * * * * * * * * * * * * * * * * *
END_USGS_HEADER *
