BEGIN_USGS_DOQ_HEADER *
QUADRANGLE_NAME "RIVERSIDE WEST" *
QUADRANT NW *
NORTH_LATITUDE 34 00 00.000 *
WEST_LONGITUDE -117 30 00.000 *
SOUTH_LATITUDE 33 56 15.000 *
EAST_LONGITUDE -117 26 15.000 *
PRODUCTION_DATE 1998 09 12 *
RASTER_ORDER LEFT_RIGHT/TOP_BOTTOM *
BAND_ORGANIZATION "SINGLE FILE" *
BAND_CONTENT BLACK&WHITE *
BITS_PER_PIXEL 8 *
SAMPLES_AND_LINES 6510 7590 *
HORIZONTAL_DATUM NAD83 *
HORIZONTAL_COORDINATE_SYSTEM UTM *
COORDINATE_ZONE 11 *
HORIZONTAL_UNITS METERS *
HORIZONTAL_RESOLUTION 1.000 *
SECONDARY_HORIZONTAL_DATUM NAD27 *
XY_ORIGIN 453390.000 3762600.000 *
SECONDARY_XY_ORIGIN 453470.499 3762403.664 *
NATION US *
STATE CA *
NW_QUAD_CORNER_XY 453825.863 3762268.641 *
NE_QUAD_CORNER_XY 459597.675 3762242.235 *
SE_QUAD_CORNER_XY 459568.108 3755312.318 *
SW_QUAD_CORNER_XY 453792.072 3755338.701 *
SECONDARY_NW_QUAD_XY 453824.823 3762074.193 *
SECONDARY_NE_QUAD_XY 459596.765 3762047.787 *
SECONDARY_SE_QUAD_XY 459567.199 3755118.070 *
SECONDARY_SW_QUAD_XY 453791.033 3755144.454 *
RMSE_XY 0.965 *
IMAGE_SOURCE "BLACK AND WHITE FILM" *
SOURCE_IMAGE_ID "NAPP 6866 6" *
SOURCE_IMAGE_DATE 1994 06 01 *
SOURCE_DEM_DATE 1951 01 01 *
AGENCY "WESTERN MAPPING CENTER (WMC)" *
PRODUCER "ANALYTICAL SURVEYS INC." *
PRODUCTION_SYSTEM "ORBIT OR_RECTIFY V.5.2" *
STANDARD_VERSION 1996 12 *
METADATA_DATE 1998 09 16 *
DATA_FILE_SIZE 49417410 *
BYTE_COUNT 6510 * * * * * * * * * * * * * * * * * * * * * * * * * * * * * * * * * * * * * * *
END_USGS_HEADER *
