BEGIN_USGS_DOQ_HEADER *
QUADRANGLE_NAME "CORONA NORTH" *
QUADRANT SW *
NORTH_LATITUDE 33 56 15.000 *
WEST_LONGITUDE -117 37 30.000 *
SOUTH_LATITUDE 33 52 30.000 *
EAST_LONGITUDE -117 33 45.000 *
PRODUCTION_DATE 1998 09 12 *
RASTER_ORDER LEFT_RIGHT/TOP_BOTTOM *
BAND_ORGANIZATION "SINGLE FILE" *
BAND_CONTENT BLACK&WHITE *
BITS_PER_PIXEL 8 *
SAMPLES_AND_LINES 6510 7620 *
HORIZONTAL_DATUM NAD83 *
HORIZONTAL_COORDINATE_SYSTEM UTM *
COORDINATE_ZONE 11 *
HORIZONTAL_UNITS METERS *
HORIZONTAL_RESOLUTION 1.000 *
SECONDARY_HORIZONTAL_DATUM NAD27 *
XY_ORIGIN 441810.000 3755730.000 *
SECONDARY_XY_ORIGIN 441890.533 3755533.663 *
NATION US *
STATE CA *
NW_QUAD_CORNER_XY 442239.933 3755402.020 *
NE_QUAD_CORNER_XY 448016.014 3755368.601 *
SE_QUAD_CORNER_XY 447978.061 3748438.704 *
SW_QUAD_CORNER_XY 442197.762 3748472.092 *
SECONDARY_NW_QUAD_XY 442238.634 3755207.774 *
SECONDARY_NE_QUAD_XY 448014.845 3755174.355 *
SECONDARY_SE_QUAD_XY 447976.893 3748244.659 *
SECONDARY_SW_QUAD_XY 442196.465 3748278.049 *
RMSE_XY 1.199 *
IMAGE_SOURCE "BLACK AND WHITE FILM" *
SOURCE_IMAGE_ID "NAPP 6866 64" *
SOURCE_IMAGE_DATE 1994 06 01 *
SOURCE_DEM_DATE 1981 01 01 *
AGENCY "WESTERN MAPPING CENTER (WMC)" *
PRODUCER "ANALYTICAL SURVEYS INC." *
PRODUCTION_SYSTEM "ORBIT OR_RECTIFY V.5.2" *
STANDARD_VERSION 1996 12 *
METADATA_DATE 1998 09 16 *
DATA_FILE_SIZE 49612710 *
BYTE_COUNT 6510 * * * * * * * * * * * * * * * * * * * * * * * * * * * * * * * * * * * * * * *
END_USGS_HEADER *
