BEGIN_USGS_DOQ_HEADER *
QUADRANGLE_NAME "YORBA LINDA" *
QUADRANT NE *
NORTH_LATITUDE 34 00 00.000 *
WEST_LONGITUDE -117 48 45.000 *
SOUTH_LATITUDE 33 56 15.000 *
EAST_LONGITUDE -117 45 00.000 *
PRODUCTION_DATE 1998 09 16 *
RASTER_ORDER LEFT_RIGHT/TOP_BOTTOM *
BAND_ORGANIZATION "SINGLE FILE" *
BAND_CONTENT BLACK&WHITE *
BITS_PER_PIXEL 8 *
SAMPLES_AND_LINES 6540 7620 *
HORIZONTAL_DATUM NAD83 *
HORIZONTAL_COORDINATE_SYSTEM UTM *
COORDINATE_ZONE 11 *
HORIZONTAL_UNITS METERS *
HORIZONTAL_RESOLUTION 1.000 *
SECONDARY_HORIZONTAL_DATUM NAD27 *
XY_ORIGIN 424500.000 3762780.000 *
SECONDARY_XY_ORIGIN 424580.713 3762583.521 *
NATION US *
STATE CA *
NW_QUAD_CORNER_XY 424966.436 3762453.490 *
NE_QUAD_CORNER_XY 430738.379 3762409.477 *
SE_QUAD_CORNER_XY 430687.690 3755479.412 *
SW_QUAD_CORNER_XY 424911.523 3755523.385 *
SECONDARY_NW_QUAD_XY 424964.747 3762259.046 *
SECONDARY_NE_QUAD_XY 430736.819 3762215.032 *
SECONDARY_SE_QUAD_XY 430686.132 3755285.168 *
SECONDARY_SW_QUAD_XY 424909.835 3755329.143 *
RMSE_XY 1.497 *
IMAGE_SOURCE "BLACK AND WHITE FILM" *
SOURCE_IMAGE_ID "NAPP 6862 16" *
SOURCE_IMAGE_DATE 1994 06 01 *
SOURCE_DEM_DATE 1981 01 01 *
AGENCY "WESTERN MAPPING CENTER (WMC)" *
PRODUCER "ANALYTICAL SURVEYS INC." *
PRODUCTION_SYSTEM "ORBIT OR_RECTIFY V.5.2" *
STANDARD_VERSION 1996 12 *
METADATA_DATE 1998 09 22 *
DATA_FILE_SIZE 49841340 *
BYTE_COUNT 6540 * * * * * * * * * * * * * * * * * * * * * * * * * * * * * * * * * * * * * * *
END_USGS_HEADER *
