BEGIN_USGS_DOQ_HEADER *
QUADRANGLE_NAME "LA HABRA" *
QUADRANT NE *
NORTH_LATITUDE 34 00 00.000 *
WEST_LONGITUDE -117 56 15.000 *
SOUTH_LATITUDE 33 56 15.000 *
EAST_LONGITUDE -117 52 30.000 *
PRODUCTION_DATE 1998 09 11 *
RASTER_ORDER LEFT_RIGHT/TOP_BOTTOM *
BAND_ORGANIZATION "SINGLE FILE" *
BAND_CONTENT BLACK&WHITE *
BITS_PER_PIXEL 8 *
SAMPLES_AND_LINES 6570 7620 *
HORIZONTAL_DATUM NAD83 *
HORIZONTAL_COORDINATE_SYSTEM UTM *
COORDINATE_ZONE 11 *
HORIZONTAL_UNITS METERS *
HORIZONTAL_RESOLUTION 1.000 *
SECONDARY_HORIZONTAL_DATUM NAD27 *
XY_ORIGIN 412950.000 3762870.000 *
SECONDARY_XY_ORIGIN 413030.865 3762673.455 *
NATION US *
STATE CA *
NW_QUAD_CORNER_XY 413422.448 3762552.081 *
NE_QUAD_CORNER_XY 419194.460 3762501.025 *
SE_QUAD_CORNER_XY 419135.322 3755570.878 *
SW_QUAD_CORNER_XY 413359.084 3755621.889 *
SECONDARY_NW_QUAD_XY 413420.498 3762357.639 *
SECONDARY_NE_QUAD_XY 419192.641 3762306.582 *
SECONDARY_SE_QUAD_XY 419133.503 3755376.636 *
SECONDARY_SW_QUAD_XY 413357.136 3755427.648 *
RMSE_XY 1.252 *
IMAGE_SOURCE "BLACK AND WHITE FILM" *
SOURCE_IMAGE_ID "NAPP 6875 50" *
SOURCE_IMAGE_DATE 1995 10 03 *
SOURCE_DEM_DATE 1981 01 01 *
AGENCY "WESTERN MAPPING CENTER (WMC)" *
PRODUCER "ANALYTICAL SURVEYS INC." *
PRODUCTION_SYSTEM "ORBIT OR_RECTIFY V.5.2" *
STANDARD_VERSION 1996 12 *
METADATA_DATE 1998 09 14 *
DATA_FILE_SIZE 50069970 *
BYTE_COUNT 6570 * * * * * * * * * * * * * * * * * * * * * * * * * * * * * * * * * * * * * * * *
END_USGS_HEADER *
