BEGIN_USGS_DOQ_HEADER *
QUADRANGLE_NAME "LA HABRA" *
QUADRANT NW *
NORTH_LATITUDE 34 00 00.000 *
WEST_LONGITUDE -118 00 00.000 *
SOUTH_LATITUDE 33 56 15.000 *
EAST_LONGITUDE -117 56 15.000 *
PRODUCTION_DATE 1998 09 11 *
RASTER_ORDER LEFT_RIGHT/TOP_BOTTOM *
BAND_ORGANIZATION "SINGLE FILE" *
BAND_CONTENT BLACK&WHITE *
BITS_PER_PIXEL 8 *
SAMPLES_AND_LINES 6540 7620 *
HORIZONTAL_DATUM NAD83 *
HORIZONTAL_COORDINATE_SYSTEM UTM *
COORDINATE_ZONE 11 *
HORIZONTAL_UNITS METERS *
HORIZONTAL_RESOLUTION 1.000 *
SECONDARY_HORIZONTAL_DATUM NAD27 *
XY_ORIGIN 407190.000 3762930.000 *
SECONDARY_XY_ORIGIN 407270.941 3762733.422 *
NATION US *
STATE CA *
NW_QUAD_CORNER_XY 407650.397 3762606.660 *
NE_QUAD_CORNER_XY 413422.448 3762552.081 *
SE_QUAD_CORNER_XY 413359.084 3755621.889 *
SW_QUAD_CORNER_XY 407582.807 3755676.419 *
SECONDARY_NW_QUAD_XY 407648.317 3762412.219 *
SECONDARY_NE_QUAD_XY 413420.498 3762357.639 *
SECONDARY_SE_QUAD_XY 413357.136 3755427.648 *
SECONDARY_SW_QUAD_XY 407580.729 3755482.180 *
RMSE_XY 1.234 *
IMAGE_SOURCE "BLACK AND WHITE FILM" *
SOURCE_IMAGE_ID "NAPP 6862 130" *
SOURCE_IMAGE_DATE 1994 06 01 *
SOURCE_IMAGE_ID "NAPP 6862 128" *
SOURCE_IMAGE_DATE 1994 06 01 *
SOURCE_DEM_DATE 1981 01 01 *
AGENCY "WESTERN MAPPING CENTER (WMC)" *
PRODUCER "ANALYTICAL SURVEYS INC." *
PRODUCTION_SYSTEM "ORBIT OR_RECTIFY V.5.2" *
STANDARD_VERSION 1996 12 *
METADATA_DATE 1998 09 14 *
DATA_FILE_SIZE 49841340 *
BYTE_COUNT 6540 * * * * * * * * * * * * * * * * * * * * * * * * * * * * * * * * * * * * *
END_USGS_HEADER *
