BEGIN_USGS_DOQ_HEADER *
QUADRANGLE_NAME "SANTA CATALINA EAST" 3.45 or 7.5-min. name*
QUADRANT SE quadrant indicator if cell size = 3.75-minutes*
WEST_LONGITUDE -118 18 45.000 signed deg min sec SDDD MM SS.SSS*
EAST_LONGITUDE -118 15 0.000 signed deg min sec SDDD MM SS.SSS*
NORTH_LATITUDE 33 18 45.000 signed deg min sec SDDD MM SS.SSS*
SOUTH_LATITUDE 33 15 0.000 signed deg min sec SDDD MM SS.SSS*
PRODUCTION_DATE 1998 4 13 yyyy mm dd*
RASTER_ORDER LEFT_RIGHT/TOP_BOTTOM video display order*
BAND_ORGANIZATION "SINGLE FILE" single file or BSQ, or BIL or BIP*
BAND_CONTENT BLACK&WHITE black&white or red green blue*
BITS_PER_PIXEL 8 radiometric resolution*
SAMPLES_AND_LINES 6592 7609 number of columns and rows*
HORIZONTAL_DATUM NAD83 primary horizontal datum*
HORIZONTAL_COORDINATE_SYSTEM UTM *
COORDINATE_ZONE 11 coordinate system zone number*
HORIZONTAL_UNITS METERS coordinate system units*
HORIZONTAL_RESOLUTION 1.00 pixel horiz. ground sample distance*
SECONDARY_HORIZONTAL_DATUM NAD27 secondary horizontal datum*
XY_ORIGIN 377349.000 3687006.000 coord. of upper left pixel pri. datum*
SECONDARY_XY_ORIGIN 377430.000 3686810.000 coord upper left pixel sec datum*
NATION US nation code*
STATE CA state fip code*
NW_QUAD_CORNER_XY 377821.494 3686700.232 XY coords. of pri. NW quad corner*
NE_QUAD_CORNER_XY 383639.897 3686628.762 XY coords. of pri. NE quad corner*
SE_QUAD_CORNER_XY 383556.922 3679699.032 XY coords. of pri. SE quad corner*
SW_QUAD_CORNER_XY 377734.368 3679770.434 XY coords. of pri. SW quad corner*
SECONDARY_NW_QUAD_XY 377818.793 3686508.055 XY coords. - sec. NW quad cor.*
SECONDARY_NE_QUAD_XY 383637.324 3686436.583 XY coords. - sec. NE quad cor.*
SECONDARY_SE_QUAD_XY 383554.352 3679507.063 XY coords. - sec. SE quad cor.*
SECONDARY_SW_QUAD_XY 377731.669 3679578.466 XY coords. - sec. SW quad cor.*
RMSE_XY 3.00 doq horiz. accuracy*
IMAGE_SOURCE "BLACK AND WHITE FILM" b&w, cir, natural color, other*
SOURCE_IMAGE_ID "NAPP 6868 38" source image id*
SOURCE_IMAGE_DATE 1994 6 2 source image date as yyyy mm dd*
SOURCE_DEM_DATE 1943 0 00 source dem date yyyy mm dd*
AGENCY "WESTERN MAPPING CENTER (WMC)" oversight agency*
PRODUCER "ROCKY MOUNTAIN MAPPING CENTER (RMMC)" *
PRODUCTION_SYSTEM "DV2.6.3 10/9OV2.4 5/95" production system*
STANDARD_VERSION 1996 12 version of DOQ standard*
METADATA_DATE 1998 4 13 date created or changed, yyyy mm dd*
DATA_FILE_SIZE 50165120 data set size in bytes*
BYTE_COUNT 6592 header byte count* * * * * * * * * * * * * * * * * * * * * * * * * * * * * * * * * * * * * * * *
END_USGS_HEADER *
