BEGIN_USGS_DOQ_HEADER *
QUADRANGLE_NAME "SANTA CATALINA NORTH" 3.45 or 7.5-min. name*
QUADRANT SW quadrant indicator if cell size = 3.75-minutes*
WEST_LONGITUDE -118 30 0.000 signed deg min sec SDDD MM SS.SSS*
EAST_LONGITUDE -118 26 15.000 signed deg min sec SDDD MM SS.SSS*
NORTH_LATITUDE 33 26 15.000 signed deg min sec SDDD MM SS.SSS*
SOUTH_LATITUDE 33 22 30.000 signed deg min sec SDDD MM SS.SSS*
PRODUCTION_DATE 1998 4 8 yyyy mm dd*
RASTER_ORDER LEFT_RIGHT/TOP_BOTTOM video display order*
BAND_ORGANIZATION "SINGLE FILE" single file or BSQ, or BIL or BIP*
BAND_CONTENT BLACK&WHITE black&white or red green blue*
BITS_PER_PIXEL 8 radiometric resolution*
SAMPLES_AND_LINES 6596 7619 number of columns and rows*
HORIZONTAL_DATUM NAD83 primary horizontal datum*
HORIZONTAL_COORDINATE_SYSTEM UTM *
COORDINATE_ZONE 11 coordinate system zone number*
HORIZONTAL_UNITS METERS coordinate system units*
HORIZONTAL_RESOLUTION 1.00 pixel horiz. ground sample distance*
SECONDARY_HORIZONTAL_DATUM NAD27 secondary horizontal datum*
XY_ORIGIN 360080.000 3701101.000 coord. of upper left pixel pri. datum*
SECONDARY_XY_ORIGIN 360161.714 3700904.198 coord upper left pixel sec datum*
NATION US nation code*
STATE CA state fip code*
NW_QUAD_CORNER_XY 360565.588 3700795.810 XY coords. of pri. NW quad corner*
NE_QUAD_CORNER_XY 366375.848 3700713.721 XY coords. of pri. NE quad corner*
SE_QUAD_CORNER_XY 366280.100 3693783.646 XY coords. of pri. SE quad corner*
SW_QUAD_CORNER_XY 360465.674 3693865.659 XY coords. of pri. SW quad corner*
SECONDARY_NW_QUAD_XY 360562.495 3700603.222 XY coords. - sec. NW quad cor.*
SECONDARY_NE_QUAD_XY 366372.884 3700521.130 XY coords. - sec. NE quad cor.*
SECONDARY_SE_QUAD_XY 366277.139 3693591.263 XY coords. - sec. SE quad cor.*
SECONDARY_SW_QUAD_XY 360462.584 3693673.278 XY coords. - sec. SW quad cor.*
RMSE_XY 2.00 doq horiz. accuracy*
IMAGE_SOURCE "BLACK AND WHITE FILM" b&w, cir, natural color, other*
SOURCE_IMAGE_ID "NAPP 6868 87" source image id*
SOURCE_IMAGE_DATE 1994 6 2 source image date as yyyy mm dd*
SOURCE_DEM_DATE 1943 0 0 source dem date yyyy mm dd*
AGENCY "WESTERN MAPPING CENTER (WMC)" oversight agency*
PRODUCER "ROCKY MOUNTAIN MAPPING CENTER (RMMC)" *
PRODUCTION_SYSTEM "DV2.6.3 10/9OV2.4 5/95" production system*
STANDARD_VERSION 1996 12 version of DOQ standard*
METADATA_DATE 1998 4 9 date created or changed, yyyy mm dd*
DATA_FILE_SIZE 50261520 data set size in bytes*
BYTE_COUNT 6596 header byte count* * * * * * * * * * * * * * * * * * * * * * * * * * * * * * * * * * * * * * * *
END_USGS_HEADER *
