BEGIN_USGS_DOQ_HEADER *
QUADRANGLE_NAME "SANTA CATALINA WEST" 3.45 or 7.5-min. name*
WEST_LONGITUDE -118 33 45.000 signed deg min sec SDDD MM SS.SSS*
QUADRANT NE quadrant indicator if cell size = 3.75-minutes*
EAST_LONGITUDE -118 30 0.000 signed deg min sec SDDD MM SS.SSS*
NORTH_LATITUDE 33 30 0.000 signed deg min sec SDDD MM SS.SSS*
SOUTH_LATITUDE 33 26 15.000 signed deg min sec SDDD MM SS.SSS*
PRODUCTION_DATE 1998 4 9 yyyy mm dd*
RASTER_ORDER LEFT_RIGHT/TOP_BOTTOM video display order*
BAND_ORGANIZATION "SINGLE FILE" single file or BSQ, or BIL or BIP*
BAND_CONTENT BLACK&WHITE black&white or red green blue*
BITS_PER_PIXEL 8 radiometric resolution*
SAMPLES_AND_LINES 6597 7624 number of columns and rows*
HORIZONTAL_DATUM NAD83 primary horizontal datum*
HORIZONTAL_COORDINATE_SYSTEM UTM *
COORDINATE_ZONE 11 coordinate system zone number*
HORIZONTAL_UNITS METERS coordinate system units*
HORIZONTAL_RESOLUTION 1.00 pixel horiz. ground sample distance*
SECONDARY_HORIZONTAL_DATUM NAD27 secondary horizontal datum*
XY_ORIGIN 354369.000 3708118.000 coord. of upper left pixel pri. datum*
SECONDARY_XY_ORIGIN 354450.717 3707921.144 coord upper left pixel sec datum*
NATION US nation code*
STATE CA state fip code*
NW_QUAD_CORNER_XY 354859.600 3707811.663 XY coords. of pri. NW quad corner*
NE_QUAD_CORNER_XY 360665.753 3707725.997 XY coords. of pri. NE quad corner*
SE_QUAD_CORNER_XY 360565.673 3700795.781 XY coords. of pri. SE quad corner*
SW_QUAD_CORNER_XY 354755.347 3700881.366 XY coords. of pri. SW quad corner*
SECONDARY_NW_QUAD_XY 354856.375 3707618.868 XY coords. - sec. NW quad cor.*
SECONDARY_NE_QUAD_XY 360662.656 3707533.201 XY coords. - sec. NE quad cor.*
SECONDARY_SE_QUAD_XY 360562.580 3700603.192 XY coords. - sec. SE quad cor.*
SECONDARY_SW_QUAD_XY 354752.125 3700688.779 XY coords. - sec. SW quad cor.*
RMSE_XY 2.30 doq horiz. accuracy*
IMAGE_SOURCE "BLACK & WHITE FILM" b&w, cir, natural color, other*
SOURCE_IMAGE_ID "NAPP 6868 58" source image id*
SOURCE_IMAGE_DATE 1994 6 2 source image date as yyyy mm dd*
SOURCE_IMAGE_ID "NAPP 6868 53" source image id*
SOURCE_IMAGE_DATE 1994 6 2 source image date as yyyy mm dd*
SOURCE_DEM_DATE 1943 0 0 source dem date yyyy mm dd*
AGENCY "WESTERN MAPPING CENTER (WMC)" agency or agency & contractor*
PRODUCER "ROCKY MOUNTAIN MAPPING CENTER (RMMC)" producer*
PRODUCTION_SYSTEM "DV2.6.3 10/9OV2.4 5/95" production system*
STANDARD_VERSION 1996 12 version of DOQ standard*
METADATA_DATE 1998 4 9 date created or changed, yyyy mm dd*
DATA_FILE_SIZE 50302125 data set size in bytes*
BYTE_COUNT 6597 header byte count* * * * * * * * * * * * * * * * * * * * * * * * * * * * * * * * * * * * * *
END_USGS_HEADER *
