BEGIN_USGS_DOQ_HEADER *
QUADRANGLE_NAME "SEAL BEACH" *
QUADRANT NW *
NORTH_LATITUDE 33 45 00.000 *
WEST_LONGITUDE -118 07 30.000 *
SOUTH_LATITUDE 33 41 15.000 *
EAST_LONGITUDE -118 03 45.000 *
PRODUCTION_DATE 1998 09 02 *
RASTER_ORDER LEFT_RIGHT/TOP_BOTTOM *
BAND_ORGANIZATION "SINGLE FILE" *
BAND_CONTENT BLACK&WHITE *
BITS_PER_PIXEL 8 *
SAMPLES_AND_LINES 6570 7620 *
HORIZONTAL_DATUM NAD83 *
HORIZONTAL_COORDINATE_SYSTEM UTM *
COORDINATE_ZONE 11 *
HORIZONTAL_UNITS METERS *
HORIZONTAL_RESOLUTION 1.000 *
SECONDARY_HORIZONTAL_DATUM NAD27 *
XY_ORIGIN 395340.000 3735330.000 *
SECONDARY_XY_ORIGIN 395420.881 3735133.511 *
NATION US *
STATE CA *
NW_QUAD_CORNER_XY 395802.744 3735005.404 *
NE_QUAD_CORNER_XY 401591.744 3734944.000 *
SE_QUAD_CORNER_XY 401520.397 3728013.980 *
SW_QUAD_CORNER_XY 395727.199 3728075.327 *
SECONDARY_NW_QUAD_XY 395800.413 3734811.775 *
SECONDARY_NE_QUAD_XY 401589.543 3734750.371 *
SECONDARY_SE_QUAD_XY 401518.198 3727820.555 *
SECONDARY_SW_QUAD_XY 395724.870 3727881.904 *
RMSE_XY 0.801 *
IMAGE_SOURCE "BLACK AND WHITE FILM" *
SOURCE_IMAGE_ID "NAPP 6858 113" *
SOURCE_IMAGE_DATE 1994 05 31 *
SOURCE_DEM_DATE 1965 01 01 *
AGENCY "WESTERN MAPPING CENTER (WMC)" *
PRODUCER "ANALYTICAL SURVEYS INC." *
PRODUCTION_SYSTEM "ORBIT OR_RECTIFY V.5.2" *
STANDARD_VERSION 1996 12 *
METADATA_DATE 1998 09 15 *
DATA_FILE_SIZE 50069970 *
BYTE_COUNT 6570 * * * * * * * * * * * * * * * * * * * * * * * * * * * * * * * * * * * * * * * *
END_USGS_HEADER *
