BEGIN_USGS_DOQ_HEADER *
QUADRANGLE_NAME "SAN PEDRO" *
QUADRANT NW *
NORTH_LATITUDE 33 45 00.000 *
WEST_LONGITUDE -118 22 30.000 *
SOUTH_LATITUDE 33 41 15.000 *
EAST_LONGITUDE -118 18 45.000 *
PRODUCTION_DATE 1998 09 02 *
RASTER_ORDER LEFT_RIGHT/TOP_BOTTOM *
BAND_ORGANIZATION "SINGLE FILE" *
BAND_CONTENT BLACK&WHITE *
BITS_PER_PIXEL 8 *
SAMPLES_AND_LINES 6600 7620 *
HORIZONTAL_DATUM NAD83 *
HORIZONTAL_COORDINATE_SYSTEM UTM *
COORDINATE_ZONE 11 *
HORIZONTAL_UNITS METERS *
HORIZONTAL_RESOLUTION 1.000 *
SECONDARY_HORIZONTAL_DATUM NAD27 *
XY_ORIGIN 372150.000 3735600.000 *
SECONDARY_XY_ORIGIN 372231.042 3735403.381 *
NATION US *
STATE CA *
NW_QUAD_CORNER_XY 372646.239 3735286.121 *
NE_QUAD_CORNER_XY 378435.447 3735210.676 *
SE_QUAD_CORNER_XY 378347.304 3728280.413 *
SW_QUAD_CORNER_XY 372553.897 3728355.790 *
SECONDARY_NW_QUAD_XY 372643.390 3735092.499 *
SECONDARY_NE_QUAD_XY 378432.727 3735017.052 *
SECONDARY_SE_QUAD_XY 378344.587 3728086.994 *
SECONDARY_SW_QUAD_XY 372551.050 3728162.372 *
RMSE_XY 1.223 *
IMAGE_SOURCE "BLACK AND WHITE FILM" *
SOURCE_IMAGE_ID "NAPP 6858 37" *
SOURCE_IMAGE_DATE 1994 05 31 *
SOURCE_DEM_DATE 1981 01 01 *
AGENCY "WESTERN MAPPING CENTER (WMC)" *
PRODUCER "ANALYTICAL SURVEYS INC." *
PRODUCTION_SYSTEM "ORBIT OR_RECTIFY V.5.2" *
STANDARD_VERSION 1996 12 *
METADATA_DATE 1998 09 15 *
DATA_FILE_SIZE 50298600 *
BYTE_COUNT 6600 * * * * * * * * * * * * * * * * * * * * * * * * * * * * * * * * * * * * * * * *
END_USGS_HEADER *
