BEGIN_USGS_DOQ_HEADER *
QUADRANGLE_NAME "LONG BEACH" *
QUADRANT SW *
NORTH_LATITUDE 33 48 45.000 *
WEST_LONGITUDE -118 15 00.000 *
SOUTH_LATITUDE 33 45 00.000 *
EAST_LONGITUDE -118 11 15.000 *
PRODUCTION_DATE 1998 09 02 *
RASTER_ORDER LEFT_RIGHT/TOP_BOTTOM *
BAND_ORGANIZATION "SINGLE FILE" *
BAND_CONTENT BLACK&WHITE *
BITS_PER_PIXEL 8 *
SAMPLES_AND_LINES 6600 7620 *
HORIZONTAL_DATUM NAD83 *
HORIZONTAL_COORDINATE_SYSTEM UTM *
COORDINATE_ZONE 11 *
HORIZONTAL_UNITS METERS *
HORIZONTAL_RESOLUTION 1.000 *
SECONDARY_HORIZONTAL_DATUM NAD27 *
XY_ORIGIN 383820.000 3742380.000 *
SECONDARY_XY_ORIGIN 383901.121 3742183.185 *
NATION US *
STATE CA *
NW_QUAD_CORNER_XY 384308.680 3742069.005 *
NE_QUAD_CORNER_XY 390093.572 3742000.519 *
SE_QUAD_CORNER_XY 390013.696 3735070.317 *
SW_QUAD_CORNER_XY 384224.598 3735138.741 *
SECONDARY_NW_QUAD_XY 384306.087 3741875.176 *
SECONDARY_NE_QUAD_XY 390091.109 3741806.689 *
SECONDARY_SE_QUAD_XY 390011.236 3734876.690 *
SECONDARY_SW_QUAD_XY 384222.008 3734945.116 *
RMSE_XY 0.908 *
IMAGE_SOURCE "BLACK AND WHITE FILM" *
SOURCE_IMAGE_ID "NAPP 6858 73" *
SOURCE_IMAGE_DATE 1994 05 31 *
SOURCE_DEM_DATE 1981 01 01 *
AGENCY "WESTERN MAPPING CENTER (WMC)" *
PRODUCER "ANALYTICAL SURVEYS INC." *
PRODUCTION_SYSTEM "ORBIT OR_RECTIFY V.5.2" *
STANDARD_VERSION 1996 12 *
METADATA_DATE 1998 09 10 *
DATA_FILE_SIZE 50298600 *
BYTE_COUNT 6600 * * * * * * * * * * * * * * * * * * * * * * * * * * * * * * * * * * * * * * * *
END_USGS_HEADER *
