BEGIN_USGS_DOQ_HEADER *
QUADRANGLE_NAME "TORRANCE" *
QUADRANT SE *
NORTH_LATITUDE 33 48 45.000 *
WEST_LONGITUDE -118 18 45.000 *
SOUTH_LATITUDE 33 45 00.000 *
EAST_LONGITUDE -118 15 00.000 *
PRODUCTION_DATE 1998 09 02 *
RASTER_ORDER LEFT_RIGHT/TOP_BOTTOM *
BAND_ORGANIZATION "SINGLE FILE" *
BAND_CONTENT BLACK&WHITE *
BITS_PER_PIXEL 8 *
SAMPLES_AND_LINES 6600 7650 *
HORIZONTAL_DATUM NAD83 *
HORIZONTAL_COORDINATE_SYSTEM UTM *
COORDINATE_ZONE 11 *
HORIZONTAL_UNITS METERS *
HORIZONTAL_RESOLUTION 1.000 *
SECONDARY_HORIZONTAL_DATUM NAD27 *
XY_ORIGIN 378030.000 3742470.000 *
SECONDARY_XY_ORIGIN 378111.087 3742273.249 *
NATION US *
STATE CA *
NW_QUAD_CORNER_XY 378523.734 3742141.005 *
NE_QUAD_CORNER_XY 384308.680 3742069.005 *
SE_QUAD_CORNER_XY 384224.598 3735138.741 *
SW_QUAD_CORNER_XY 378435.447 3735210.676 *
SECONDARY_NW_QUAD_XY 378521.012 3741947.178 *
SECONDARY_NE_QUAD_XY 384306.087 3741875.176 *
SECONDARY_SE_QUAD_XY 384222.008 3734945.116 *
SECONDARY_SW_QUAD_XY 378432.727 3735017.052 *
RMSE_XY 1.379 *
IMAGE_SOURCE "BLACK AND WHITE FILM" *
SOURCE_IMAGE_ID "NAPP 6858 42" *
SOURCE_IMAGE_DATE 1994 05 31 *
SOURCE_DEM_DATE 1981 01 01 *
AGENCY "WESTERN MAPPING CENTER (WMC)" *
PRODUCER "ANALYTICAL SURVEYS INC." *
PRODUCTION_SYSTEM "ORBIT OR_RECTIFY V.5.2" *
STANDARD_VERSION 1996 12 *
METADATA_DATE 1998 09 10 *
DATA_FILE_SIZE 50496600 *
BYTE_COUNT 6600 * * * * * * * * * * * * * * * * * * * * * * * * * * * * * * * * * * * * * * * *
END_USGS_HEADER *
