BEGIN_USGS_DOQ_HEADER *
QUADRANGLE_NAME "REDONDO BEACH" *
QUADRANT NE *
NORTH_LATITUDE 33 52 30.000 *
WEST_LONGITUDE -118 26 15.000 *
SOUTH_LATITUDE 33 48 45.000 *
EAST_LONGITUDE -118 22 30.000 *
PRODUCTION_DATE 1998 09 02 *
RASTER_ORDER LEFT_RIGHT/TOP_BOTTOM *
BAND_ORGANIZATION "SINGLE FILE" *
BAND_CONTENT BLACK&WHITE *
BITS_PER_PIXEL 8 *
SAMPLES_AND_LINES 6600 7650 *
HORIZONTAL_DATUM NAD83 *
HORIZONTAL_COORDINATE_SYSTEM UTM *
COORDINATE_ZONE 11 *
HORIZONTAL_UNITS METERS *
HORIZONTAL_RESOLUTION 1.000 *
SECONDARY_HORIZONTAL_DATUM NAD27 *
XY_ORIGIN 366540.000 3749550.000 *
SECONDARY_XY_ORIGIN 366621.099 3749353.281 *
NATION US *
STATE CA *
NW_QUAD_CORNER_XY 367050.535 3749226.082 *
NE_QUAD_CORNER_XY 372831.380 3749146.983 *
SE_QUAD_CORNER_XY 372738.734 3742216.519 *
SW_QUAD_CORNER_XY 366953.675 3742295.547 *
SECONDARY_NW_QUAD_XY 367047.551 3749032.055 *
SECONDARY_NE_QUAD_XY 372828.525 3748952.954 *
SECONDARY_SE_QUAD_XY 372735.882 3742022.693 *
SECONDARY_SW_QUAD_XY 366950.694 3742101.723 *
RMSE_XY 1.284 *
IMAGE_SOURCE "BLACK AND WHITE FILM" *
SOURCE_IMAGE_ID "NAPP 6858 6" *
SOURCE_IMAGE_DATE 1994 05 31 *
SOURCE_IMAGE_ID "NAPP 6858 33" *
SOURCE_IMAGE_DATE 1994 05 31 *
SOURCE_DEM_DATE 1981 01 01 *
AGENCY "WESTERN MAPPING CENTER (WMC)" *
PRODUCER "ANALYTICAL SURVEYS INC." *
PRODUCTION_SYSTEM "ORBIT OR_RECTIFY V.5.2" *
STANDARD_VERSION 1996 12 *
METADATA_DATE 1998 09 15 *
DATA_FILE_SIZE 50496600 *
BYTE_COUNT 6600 * * * * * * * * * * * * * * * * * * * * * * * * * * * * * * * * * * * * * *
END_USGS_HEADER *
