BEGIN_USGS_DOQ_HEADER *
QUADRANGLE_NAME "SOUTH GATE" *
QUADRANT SE *
NORTH_LATITUDE 33 56 15.000 *
WEST_LONGITUDE -118 11 15.000 *
SOUTH_LATITUDE 33 52 30.000 *
EAST_LONGITUDE -118 07 30.000 *
PRODUCTION_DATE 1998 09 11 *
RASTER_ORDER LEFT_RIGHT/TOP_BOTTOM *
BAND_ORGANIZATION "SINGLE FILE" *
BAND_CONTENT BLACK&WHITE *
BITS_PER_PIXEL 8 *
SAMPLES_AND_LINES 6570 7620 *
HORIZONTAL_DATUM NAD83 *
HORIZONTAL_COORDINATE_SYSTEM UTM *
COORDINATE_ZONE 11 *
HORIZONTAL_UNITS METERS *
HORIZONTAL_RESOLUTION 1.000 *
SECONDARY_HORIZONTAL_DATUM NAD27 *
XY_ORIGIN 389790.000 3756180.000 *
SECONDARY_XY_ORIGIN 389871.072 3755983.135 *
NATION US *
STATE CA *
NW_QUAD_CORNER_XY 390253.715 3755861.126 *
NE_QUAD_CORNER_XY 396030.125 3755796.038 *
SE_QUAD_CORNER_XY 395954.208 3748865.759 *
SW_QUAD_CORNER_XY 390173.578 3748930.789 *
SECONDARY_NW_QUAD_XY 390251.248 3755666.891 *
SECONDARY_NE_QUAD_XY 396027.788 3755601.801 *
SECONDARY_SE_QUAD_XY 395951.872 3748671.724 *
SECONDARY_SW_QUAD_XY 390171.113 3748736.756 *
RMSE_XY 1.317 *
IMAGE_SOURCE "BLACK AND WHITE FILM" *
SOURCE_IMAGE_ID "NAPP 6858 84" *
SOURCE_IMAGE_DATE 1994 05 31 *
SOURCE_DEM_DATE 1998 01 01 *
AGENCY "WESTERN MAPPING CENTER (WMC)" *
PRODUCER "ANALYTICAL SURVEYS INC." *
PRODUCTION_SYSTEM "ORBIT OR_RECTIFY V.5.2" *
STANDARD_VERSION 1996 12 *
METADATA_DATE 1998 09 14 *
DATA_FILE_SIZE 50069970 *
BYTE_COUNT 6570 * * * * * * * * * * * * * * * * * * * * * * * * * * * * * * * * * * * * * * * *
END_USGS_HEADER *
