BEGIN_USGS_DOQ_HEADER *
QUADRANGLE_NAME "VENICE" *
QUADRANT NE *
NORTH_LATITUDE 34 00 00.000 *
WEST_LONGITUDE -118 26 15.000 *
SOUTH_LATITUDE 33 56 15.000 *
EAST_LONGITUDE -118 22 30.000 *
PRODUCTION_DATE 1998 09 02 *
RASTER_ORDER LEFT_RIGHT/TOP_BOTTOM *
BAND_ORGANIZATION "SINGLE FILE" *
BAND_CONTENT BLACK&WHITE *
BITS_PER_PIXEL 8 *
SAMPLES_AND_LINES 6570 7650 *
HORIZONTAL_DATUM NAD83 *
HORIZONTAL_COORDINATE_SYSTEM UTM *
COORDINATE_ZONE 11 *
HORIZONTAL_UNITS METERS *
HORIZONTAL_RESOLUTION 1.000 *
SECONDARY_HORIZONTAL_DATUM NAD27 *
XY_ORIGIN 366750.000 3763410.000 *
SECONDARY_XY_ORIGIN 366831.190 3763213.130 *
NATION US *
STATE CA *
NW_QUAD_CORNER_XY 367244.730 3763087.350 *
NE_QUAD_CORNER_XY 373017.127 3763008.109 *
SE_QUAD_CORNER_XY 372924.178 3756077.513 *
SW_QUAD_CORNER_XY 367147.554 3756156.683 *
SECONDARY_NW_QUAD_XY 367241.740 3762892.920 *
SECONDARY_NE_QUAD_XY 373014.267 3762813.678 *
SECONDARY_SE_QUAD_XY 372921.320 3755883.283 *
SECONDARY_SW_QUAD_XY 367144.566 3755962.454 *
RMSE_XY 2.266 *
IMAGE_SOURCE "BLACK AND WHITE FILM" *
SOURCE_IMAGE_ID "NAPP 6858 10" *
SOURCE_IMAGE_DATE 1994 05 31 *
SOURCE_DEM_DATE 1998 01 01 *
AGENCY "WESTERN MAPPING CENTER (WMC)" *
PRODUCER "ANALYTICAL SURVEYS INC." *
PRODUCTION_SYSTEM "ORBIT OR_RECTIFY V.5.2" *
STANDARD_VERSION 1996 12 *
METADATA_DATE 1998 09 10 *
DATA_FILE_SIZE 50267070 *
BYTE_COUNT 6570 * * * * * * * * * * * * * * * * * * * * * * * * * * * * * * * * * * * * * * * *
END_USGS_HEADER *
