BEGIN_USGS_DOQ_HEADER *
QUADRANGLE_NAME "SAN NICOLAS ISLAND" 3.45 or 7.5-min. name*
QUADRANT NE quadrant indicator if cell size = 3.75-minutes*
WEST_LONGITUDE -119 26 15.000 signed deg min sec SDDD MM SS.SSS*
EAST_LONGITUDE -119 22 30.000 signed deg min sec SDDD MM SS.SSS*
NORTH_LATITUDE 33 15 0.000 signed deg min sec SDDD MM SS.SSS*
SOUTH_LATITUDE 33 11 15.000 signed deg min sec SDDD MM SS.SSS*
PRODUCTION_DATE 1998 4 23 yyyy mm dd*
RASTER_ORDER LEFT_RIGHT/TOP_BOTTOM video display order*
BAND_ORGANIZATION "SINGLE FILE" single file or BSQ, or BIL or BIP*
BAND_CONTENT BLACK&WHITE black&white or red green blue*
BITS_PER_PIXEL 8 radiometric resolution*
SAMPLES_AND_LINES 6676 7674 number of columns and rows*
HORIZONTAL_DATUM NAD83 primary horizontal datum*
HORIZONTAL_COORDINATE_SYSTEM UTM *
COORDINATE_ZONE 11 coordinate system zone number*
HORIZONTAL_UNITS METERS coordinate system units*
HORIZONTAL_RESOLUTION 1.00 pixel horiz. ground sample distance*
SECONDARY_HORIZONTAL_DATUM NAD27 secondary horizontal datum*
XY_ORIGIN 272366.000 3681958.000 coord. of upper left pixel pri. datum*
SECONDARY_XY_ORIGIN 272448.418 3681760.640 coord upper left pixel sec datum*
NATION US nation code*
STATE CA state fip code*
NW_QUAD_CORNER_XY 272915.710 3681651.943 XY coords. of pri. NW quad corner*
NE_QUAD_CORNER_XY 278739.742 3681517.756 XY coords. of pri. NE quad corner*
SE_QUAD_CORNER_XY 278582.247 3674586.358 XY coords. of pri. SE quad corner*
SW_QUAD_CORNER_XY 272754.063 3674720.418 XY coords. of pri. SW quad corner*
SECONDARY_NW_QUAD_XY 272910.696 3681460.018 XY coords. - sec. NW quad cor.*
SECONDARY_NE_QUAD_XY 278734.856 3681325.827 XY coords. - sec. NE quad cor.*
SECONDARY_SE_QUAD_XY 278577.367 3674394.640 XY coords. - sec. SE quad cor.*
SECONDARY_SW_QUAD_XY 272749.054 3674528.702 XY coords. - sec. SW quad cor.*
RMSE_XY 1.30 doq horiz. accuracy*
IMAGE_SOURCE "BLACK AND WHITE FILM" b&w, cir, natural color, other*
SOURCE_IMAGE_ID "NAPP 6928 171" source image id*
SOURCE_IMAGE_DATE 1994 9 15 source image date as yyyy mm dd*
SOURCE_DEM_DATE 1943 0 0 source dem date yyyy mm dd*
AGENCY "WESTERN MAPPING CENTER (WMC)" oversight agency*
PRODUCER "ROCKY MOUNTAIN MAPPING CENTER (RMMC)" *
PRODUCTION_SYSTEM "DV2.6.3 10/9OV2.4 5/95" production system*
STANDARD_VERSION 1996 12 version of DOQ standard*
METADATA_DATE 1998 4 24 date created or changed, yyyy mm dd*
DATA_FILE_SIZE 51238300 data set size in bytes*
BYTE_COUNT 6676 header byte count* * * * * * * * * * * * * * * * * * * * * * * * * * * * * * * * * * * * * * * * *
END_USGS_HEADER *
