BEGIN_USGS_DOQ_HEADER *
QUADRANGLE_NAME "SANTA CRUZ ISLAND D OE S" 3.45 or 7.5-min. name*
QUADRANT NE quadrant indicator if cell size = 3.75-minutes*
WEST_LONGITUDE -119 33 45.000 signed deg min sec SDDD MM SS.SSS*
EAST_LONGITUDE -119 30 0.000 signed deg min sec SDDD MM SS.SSS*
NORTH_LATITUDE 34 0 0.000 signed deg min sec SDDD MM SS.SSS*
SOUTH_LATITUDE 33 56 15.000 signed deg min sec SDDD MM SS.SSS*
PRODUCTION_DATE 1995 9 19 yyyy mm dd*
RASTER_ORDER LEFT_RIGHT/TOP_BOTTOM video display order*
BAND_ORGANIZATION "SINGLE FILE" single file or BSQ, or BIL or BIP*
BAND_CONTENT BLACK&WHITE black&white or red green blue*
BITS_PER_PIXEL 8 radiometric resolution*
SAMPLES_AND_LINES 6636 7680 number of columns and rows*
HORIZONTAL_DATUM NAD83 primary horizontal datum*
HORIZONTAL_COORDINATE_SYSTEM UTM *
COORDINATE_ZONE 11 coordinate system zone number*
HORIZONTAL_UNITS METERS coordinate system units*
HORIZONTAL_RESOLUTION 1.00 pixel horiz. ground sample distance*
SECONDARY_HORIZONTAL_DATUM NAD27 secondary horizontal datum*
XY_ORIGIN 262766.000 3765420.000 coord. of upper left pixel pri. datum*
SECONDARY_XY_ORIGIN 262849.047 3765222.977 coord upper left pixel sec datum*
NATION US nation code*
STATE CA state fip code*
NW_QUAD_CORNER_XY 263328.890 3765116.660 XY coords. of pri. NW quad corner*
NE_QUAD_CORNER_XY 269102.750 3764973.920 XY coords. of pri. NE quad corner*
SE_QUAD_CORNER_XY 268933.640 3758041.590 XY coords. of pri. SE quad corner*
SW_QUAD_CORNER_XY 263155.530 3758184.190 XY coords. of pri. SW quad corner*
SECONDARY_NW_QUAD_XY 263323.560 3764922.280 XY coords. - sec. NW quad cor.*
SECONDARY_NE_QUAD_XY 269097.550 3764779.540 XY coords. - sec. NE quad cor.*
SECONDARY_SE_QUAD_XY 268928.440 3757847.400 XY coords. - sec. SE quad cor.*
SECONDARY_SW_QUAD_XY 263150.210 3757990.010 XY coords. - sec. SW quad cor.*
RMSE_XY 1.90 doq horiz. accuracy*
IMAGE_SOURCE "BLACK AND WHITE FILM" b&w, cir, natural color, other*
SOURCE_IMAGE_ID "NAPP 6921 154" source image id*
SOURCE_IMAGE_DATE 1994 9 3 source image date as yyyy mm dd*
SOURCE_DEM_DATE 1995 9 19 source dem date yyyy mm dd*
AGENCY "WESTERN MAPPING CENTER (WMC)" oversight agency*
PRODUCER "WMC" producer/contractor*
PRODUCTION_SYSTEM "DV2.6.1 6/95OV2.4 5/95" production system*
STANDARD_VERSION 1996 12 version of DOQ standard*
METADATA_DATE 1997 8 21 date created or changed, yyyy mm dd*
DATA_FILE_SIZE 50971116 data set size in bytes*
BYTE_COUNT 6636 header byte count* * * * * * * * * * * * * * * * * * * * * * * * * * * * * * * * * * * * * * * *
END_USGS_HEADER *
