BEGIN_USGS_DOQ_HEADER *
QUADRANGLE_NAME "SANTA CRUZ ISLAND B" 3.45 or 7.5-min. name*
QUADRANT NW quadrant indicator if cell size = 3.75-minutes*
WEST_LONGITUDE -119 52 30.000 signed deg min sec SDDD MM SS.SSS*
EAST_LONGITUDE -119 48 45.000 signed deg min sec SDDD MM SS.SSS*
NORTH_LATITUDE 34 0 0.000 signed deg min sec SDDD MM SS.SSS*
SOUTH_LATITUDE 33 56 15.000 signed deg min sec SDDD MM SS.SSS*
PRODUCTION_DATE 1995 9 15 yyyy mm dd*
RASTER_ORDER LEFT_RIGHT/TOP_BOTTOM video display order*
BAND_ORGANIZATION "SINGLE FILE" single file or BSQ, or BIL or BIP*
BAND_CONTENT BLACK&WHITE black&white or red green blue*
BITS_PER_PIXEL 8 radiometric resolution*
SAMPLES_AND_LINES 6660 7699 number of columns and rows*
HORIZONTAL_DATUM NAD83 primary horizontal datum*
HORIZONTAL_COORDINATE_SYSTEM UTM *
COORDINATE_ZONE 11 coordinate system zone number*
HORIZONTAL_UNITS METERS coordinate system units*
HORIZONTAL_RESOLUTION 1.00 pixel horiz. ground sample distance*
SECONDARY_HORIZONTAL_DATUM NAD27 secondary horizontal datum*
XY_ORIGIN 233874.000 3766187.000 coord. of upper left pixel pri. datum*
SECONDARY_XY_ORIGIN 233956.884 3765989.633 coord upper left pixel sec datum*
NATION US nation code*
STATE CA state fip code*
NW_QUAD_CORNER_XY 234457.911 3765883.315 XY coords. of pri. NW quad corner*
NE_QUAD_CORNER_XY 240232.334 3765722.917 XY coords. of pri. NE quad corner*
SE_QUAD_CORNER_XY 240042.028 3758789.916 XY coords. of pri. SE quad corner*
SW_QUAD_CORNER_XY 234263.364 3758950.172 XY coords. of pri. SW quad corner*
SECONDARY_NW_QUAD_XY 234451.927 3765688.949 XY coords. - sec. NW quad cor.*
SECONDARY_NE_QUAD_XY 240226.481 3765528.547 XY coords. - sec. NE quad cor.*
SECONDARY_SE_QUAD_XY 240036.180 3758595.747 XY coords. - sec. SE quad cor.*
SECONDARY_SW_QUAD_XY 234257.386 3758756.007 XY coords. - sec. SW quad cor.*
RMSE_XY 2.60 doq horiz. accuracy*
IMAGE_SOURCE "BLACK AND WHITE FILM" b&w, cir, natural color, other*
SOURCE_IMAGE_ID "NAPP 6921 146" source image id*
SOURCE_IMAGE_DATE 1994 9 3 source image date as yyyy mm dd*
SOURCE_DEM_DATE 1995 9 15 source dem date yyyy mm dd*
AGENCY "WESTERN MAPPING CENTER (WMC)" oversight agency*
PRODUCER "WMC" producer/contractor*
PRODUCTION_SYSTEM "DV2.6.1 6/95OV2.4 5/95" production system*
STANDARD_VERSION 1996 12 version of DOQ standard*
METADATA_DATE 1997 6 13 date created or changed, yyyy mm dd*
DATA_FILE_SIZE 51282000 data set size in bytes*
BYTE_COUNT 6660 header byte count* * * * * * * * * * * * * * * * * * * * * * * * * * * * * * * * * * * * * * * * *
END_USGS_HEADER *
