BEGIN_USGS_DOQ_HEADER *
QUADRANGLE_NAME "SANTA ROSA ISLAND WEST" 3.45 or 7.5-min. name*
QUADRANT NW quadrant indicator if cell size = 3.75-minutes*
WEST_LONGITUDE -120 15 0.000 signed deg min sec SDDD MM SS.SSS*
EAST_LONGITUDE -120 11 15.000 signed deg min sec SDDD MM SS.SSS*
NORTH_LATITUDE 34 0 0.000 signed deg min sec SDDD MM SS.SSS*
SOUTH_LATITUDE 33 56 15.000 signed deg min sec SDDD MM SS.SSS*
PRODUCTION_DATE 1995 9 13 yyyy mm dd*
RASTER_ORDER LEFT_RIGHT/TOP_BOTTOM video display order*
BAND_ORGANIZATION "SINGLE FILE" single file or BSQ, or BIL or BIP*
BAND_CONTENT BLACK&WHITE black&white or red green blue*
BITS_PER_PIXEL 8 radiometric resolution*
SAMPLES_AND_LINES 6656 7695 number of columns and rows*
HORIZONTAL_DATUM NAD83 primary horizontal datum*
HORIZONTAL_COORDINATE_SYSTEM UTM *
COORDINATE_ZONE 10 coordinate system zone number*
HORIZONTAL_UNITS METERS coordinate system units*
HORIZONTAL_RESOLUTION 1.00 pixel horiz. ground sample distance*
SECONDARY_HORIZONTAL_DATUM NAD27 secondary horizontal datum*
XY_ORIGIN 753603.000 3766024.000 coord. of upper left pixel pri. datum*
SECONDARY_XY_ORIGIN 753698.308 3765832.247 coord upper left pixel sec datum*
NATION US nation code*
STATE CA state fip code*
NW_QUAD_CORNER_XY 753993.360 3765566.050 XY coords. of pri. NW quad corner*
NE_QUAD_CORNER_XY 759767.670 3765722.920 XY coords. of pri. NE quad corner*
SE_QUAD_CORNER_XY 759957.970 3758789.920 XY coords. of pri. SE quad corner*
SW_QUAD_CORNER_XY 754179.430 3758633.190 XY coords. of pri. SW quad corner*
SECONDARY_NW_QUAD_XY 753999.080 3765371.680 XY coords. - sec. NW quad cor.*
SECONDARY_NE_QUAD_XY 759773.520 3765528.550 XY coords. - sec. NE quad cor.*
SECONDARY_SE_QUAD_XY 759963.820 3758595.750 XY coords. - sec. SE quad cor.*
SECONDARY_SW_QUAD_XY 754185.140 3758439.020 XY coords. - sec. SW quad cor.*
RMSE_XY 4.30 doq horiz. accuracy*
IMAGE_SOURCE "BLACK AND WHITE FILM" b&w, cir, natural color, other*
SOURCE_IMAGE_ID "NAPP 6928 157" source image id*
SOURCE_IMAGE_DATE 1994 9 15 source image date as yyyy mm dd*
SOURCE_DEM_DATE 1995 9 13 source dem date yyyy mm dd*
AGENCY "WESTERN MAPPING CENTER (WMC)" oversight agency*
PRODUCER "WMC" producer/contractor*
PRODUCTION_SYSTEM "DV2.6.1 6/95OV2.4 5/95" production system*
STANDARD_VERSION 1996 12 version of DOQ standard*
METADATA_DATE 1997 6 20 date created or changed, yyyy mm dd*
DATA_FILE_SIZE 51224576 data set size in bytes*
BYTE_COUNT 6656 header byte count* * * * * * * * * * * * * * * * * * * * * * * * * * * * * * * * * * * * * * * * *
END_USGS_HEADER *
