BEGIN_USGS_DOQ_HEADER *
QUADRANGLE_NAME "SANTA ROSA ISLAND WEST" 3.45 or 7.5-min. name*
QUADRANT SE quadrant indicator if cell size = 3.75-minutes*
WEST_LONGITUDE -120 11 15.000 signed deg min sec SDDD MM SS.SSS*
EAST_LONGITUDE -120 7 30.000 signed deg min sec SDDD MM SS.SSS*
NORTH_LATITUDE 33 56 15.000 signed deg min sec SDDD MM SS.SSS*
SOUTH_LATITUDE 33 52 30.000 signed deg min sec SDDD MM SS.SSS*
PRODUCTION_DATE 1995 9 15 yyyy mm dd*
RASTER_ORDER LEFT_RIGHT/TOP_BOTTOM video display order*
BAND_ORGANIZATION "SINGLE FILE" single file or BSQ, or BIL or BIP*
BAND_CONTENT BLACK&WHITE black&white or red green blue*
BITS_PER_PIXEL 8 radiometric resolution*
SAMPLES_AND_LINES 6660 7698 number of columns and rows*
HORIZONTAL_DATUM NAD83 primary horizontal datum*
HORIZONTAL_COORDINATE_SYSTEM UTM *
COORDINATE_ZONE 10 coordinate system zone number*
HORIZONTAL_UNITS METERS coordinate system units*
HORIZONTAL_RESOLUTION 1.00 pixel horiz. ground sample distance*
SECONDARY_HORIZONTAL_DATUM NAD27 secondary horizontal datum*
XY_ORIGIN 759570.000 3759251.000 coord. of upper left pixel pri. datum*
SECONDARY_XY_ORIGIN 759665.251 3759059.139 coord upper left pixel sec datum*
NATION US nation code*
STATE CA state fip code*
NW_QUAD_CORNER_XY 759957.970 3758789.920 XY coords. of pri. NW quad corner*
NE_QUAD_CORNER_XY 765736.640 3758950.170 XY coords. of pri. NE quad corner*
SE_QUAD_CORNER_XY 765930.870 3752017.080 XY coords. of pri. SE quad corner*
SW_QUAD_CORNER_XY 760147.970 3751856.970 XY coords. of pri. SW quad corner*
SECONDARY_NW_QUAD_XY 759963.820 3758595.750 XY coords. - sec. NW quad cor.*
SECONDARY_NE_QUAD_XY 765742.610 3758756.010 XY coords. - sec. NE quad cor.*
SECONDARY_SE_QUAD_XY 765936.840 3751823.120 XY coords. - sec. SE quad cor.*
SECONDARY_SW_QUAD_XY 760153.810 3751663.000 XY coords. - sec. SW quad cor.*
RMSE_XY 3.30 doq horiz. accuracy*
IMAGE_SOURCE "BLACK AND WHITE FILM" b&w, cir, natural color, other*
SOURCE_IMAGE_ID "NAPP 6921 122" source image id*
SOURCE_IMAGE_DATE 1994 9 3 source image date as yyyy mm dd*
SOURCE_DEM_DATE 1995 9 15 source dem date yyyy mm dd*
AGENCY "WESTERN MAPPING CENTER (WMC)" oversight agency*
PRODUCER "WMC" producer/contractor*
PRODUCTION_SYSTEM "DV2.6.1 6/95OV2.4 5/95" production system*
STANDARD_VERSION 1996 12 version of DOQ standard*
METADATA_DATE 1997 6 20 date created or changed, yyyy mm dd*
DATA_FILE_SIZE 51275340 data set size in bytes*
BYTE_COUNT 6660 header byte count* * * * * * * * * * * * * * * * * * * * * * * * * * * * * * * * * * * * * * * * *
END_USGS_HEADER *
