BEGIN_USGS_DOQ_HEADER *
QUADRANGLE_NAME "CASTANEDA HILLS SW" 3.45 or 7.5-min. name*
QUADRANT NE quadrant indicator if cell size = 3.75-minutes*
WEST_LONGITUDE -113 56 15.000 signed deg min sec SDDD MM SS.SSS*
EAST_LONGITUDE -113 52 30.000 signed deg min sec SDDD MM SS.SSS*
NORTH_LATITUDE 34 22 30.000 signed deg min sec SDDD MM SS.SSS*
SOUTH_LATITUDE 34 18 45.000 signed deg min sec SDDD MM SS.SSS*
PRODUCTION_DATE 1997 7 1 yyyy mm dd*
RASTER_ORDER LEFT_RIGHT/TOP_BOTTOM video display order*
BAND_ORGANIZATION "SINGLE FILE" single file or BSQ, or BIL or BIP*
BAND_CONTENT BLACK&WHITE black&white or red green blue*
BITS_PER_PIXEL 8 radiometric resolution*
SAMPLES_AND_LINES 6624 7705 number of columns and rows*
HORIZONTAL_DATUM NAD83 primary horizontal datum*
HORIZONTAL_COORDINATE_SYSTEM UTM *
COORDINATE_ZONE 12 coordinate system zone number*
HORIZONTAL_UNITS METERS coordinate system units*
HORIZONTAL_RESOLUTION 1.00 pixel horiz. ground sample distance*
SECONDARY_HORIZONTAL_DATUM NAD27 secondary horizontal datum*
XY_ORIGIN 229310.000 3807953.000 coord. of upper left pixel pri. datum*
SECONDARY_XY_ORIGIN 229375.096 3807753.683 coord upper left pixel sec datum*
NATION US nation code*
STATE AZ state fip code*
NW_QUAD_CORNER_XY 229882.870 3807648.070 XY coords. of pri. NW quad corner*
NE_QUAD_CORNER_XY 235631.830 3807483.280 XY coords. of pri. NE quad corner*
SE_QUAD_CORNER_XY 235435.390 3800549.820 XY coords. of pri. SE quad corner*
SW_QUAD_CORNER_XY 229682.150 3800714.470 XY coords. of pri. SW quad corner*
SECONDARY_NW_QUAD_XY 229876.730 3807452.520 XY coords. - sec. NW quad cor.*
SECONDARY_NE_QUAD_XY 235625.810 3807287.730 XY coords. - sec. NE quad cor.*
SECONDARY_SE_QUAD_XY 235429.370 3800354.460 XY coords. - sec. SE quad cor.*
SECONDARY_SW_QUAD_XY 229676.010 3800519.110 XY coords. - sec. SW quad cor.*
RMSE_XY 2.50 doq horiz. accuracy*
IMAGE_SOURCE "BLACK AND WHITE FILM" b&w, cir, natural color, other*
SOURCE_IMAGE_ID "NAPP 5321 257" source image id*
SOURCE_IMAGE_DATE 1992 9 26 source image date as yyyy mm dd*
SOURCE_DEM_DATE 1997 7 1 source dem date yyyy mm dd*
AGENCY "WESTERN MAPPING CENTER (WMC)" oversight agency*
PRODUCER "RMMC" producer/contractor*
PRODUCTION_SYSTEM "DV2.6.3 10/9OV2.4 5/95" production system*
STANDARD_VERSION 1996 12 version of DOQ standard*
METADATA_DATE 1997 12 15 date created or changed, yyyy mm dd*
DATA_FILE_SIZE 51044544 data set size in bytes*
BYTE_COUNT 6624 header byte count* * * * * * * * * * * * * * * * * * * * * * * * * * * * * * * * * * * * * * * *
END_USGS_HEADER *
