BEGIN_USGS_DOQ_HEADER *
QUADRANGLE_NAME "PARKER SW" *
QUADRANT SE *
NORTH_LATITUDE 34 03 45.000 *
WEST_LONGITUDE -114 26 15.000 *
SOUTH_LATITUDE 34 00 00.000 *
EAST_LONGITUDE -114 22 30.000 *
PRODUCTION_DATE 1998 02 07 *
RASTER_ORDER LEFT_RIGHT/TOP_BOTTOM *
BAND_ORGANIZATION BIP *
BAND_CONTENT RED *
BAND_CONTENT GREEN *
BAND_CONTENT BLUE *
BITS_PER_PIXEL 8 *
SAMPLES_AND_LINES 6660 7710 *
HORIZONTAL_DATUM NAD83 *
HORIZONTAL_COORDINATE_SYSTEM UTM *
COORDINATE_ZONE 11 *
HORIZONTAL_UNITS METERS *
HORIZONTAL_RESOLUTION 1.000 *
SECONDARY_HORIZONTAL_DATUM NAD27 *
XY_ORIGIN 736110.000 3772500.000 *
SECONDARY_XY_ORIGIN 736188.208 3772305.416 *
NATION US *
STATE AZ *
STATE CA *
NW_QUAD_CORNER_XY 736497.477 3772049.180 *
NE_QUAD_CORNER_XY 742267.206 3772195.574 *
SE_QUAD_CORNER_XY 742445.085 3765262.925 *
SW_QUAD_CORNER_XY 736671.113 3765116.659 *
SECONDARY_NW_QUAD_XY 736502.815 3771854.596 *
SECONDARY_NE_QUAD_XY 742272.673 3772000.993 *
SECONDARY_SE_QUAD_XY 742450.548 3765068.544 *
SECONDARY_SW_QUAD_XY 736676.445 3764922.275 *
RMSE_XY 1.379 *
IMAGE_SOURCE "CIR FILM" *
SOURCE_IMAGE_ID "NAPP 9556 216" *
SOURCE_IMAGE_DATE 1996 06 07 *
SOURCE_DEM_DATE 1975 01 01 *
AGENCY "WESTERN MAPPING CENTER (WMC)" *
PRODUCER "ANALYTICAL SURVEYS INC." *
PRODUCTION_SYSTEM "ORBIT OR_RECTIFY V.5.2" *
STANDARD_VERSION 1996 12 *
METADATA_DATE 1998 02 07 *
DATA_FILE_SIZE 154065780 *
BYTE_COUNT 19980 * * * * * * * * * * * * * * * * * * * * * * * * * * * * * * * * * * * * * * * * * * * * * * * * * * * * * * * * * * * * * * * * * * * * * * * * * * * * * * * * * * * * * * * * * * * * * * * * * * * * * * * * * * * * * * * * * * * * * * * * * * * * * * * * * * * * * * * * * * * * * * * * * * * * * * * * * * * * * * * * * * * * * * * * * * * * * * * * * * * * * * * * * * * * * * * * * * * * * * * * * * * *
END_USGS_HEADER *
