BEGIN_USGS_DOQ_HEADER *
QUADRANGLE_NAME "VIDAL" *
QUADRANT NW *
NORTH_LATITUDE 34 07 30.000 *
WEST_LONGITUDE -114 37 30.000 *
SOUTH_LATITUDE 34 03 45.000 *
EAST_LONGITUDE -114 33 45.000 *
PRODUCTION_DATE 1998 02 04 *
RASTER_ORDER LEFT_RIGHT/TOP_BOTTOM *
BAND_ORGANIZATION BIP *
BAND_CONTENT RED *
BAND_CONTENT GREEN *
BAND_CONTENT BLUE *
BITS_PER_PIXEL 8 *
SAMPLES_AND_LINES 6630 7680 *
HORIZONTAL_DATUM NAD83 *
HORIZONTAL_COORDINATE_SYSTEM UTM *
COORDINATE_ZONE 11 *
HORIZONTAL_UNITS METERS *
HORIZONTAL_RESOLUTION 1.000 *
SECONDARY_HORIZONTAL_DATUM NAD27 *
XY_ORIGIN 718650.000 3779010.000 *
SECONDARY_XY_ORIGIN 718728.409 3778815.278 *
NATION US *
STATE CA *
NW_QUAD_CORNER_XY 719027.749 3778563.417 *
NE_QUAD_CORNER_XY 724792.919 3778699.327 *
SE_QUAD_CORNER_XY 724958.335 3771766.996 *
SW_QUAD_CORNER_XY 719188.916 3771631.205 *
SECONDARY_NW_QUAD_XY 719032.700 3778368.623 *
SECONDARY_NE_QUAD_XY 724798.000 3778504.536 *
SECONDARY_SE_QUAD_XY 724963.412 3771572.405 *
SECONDARY_SW_QUAD_XY 719193.862 3771436.611 *
RMSE_XY 2.010 *
IMAGE_SOURCE "CIR FILM" *
SOURCE_IMAGE_ID "NAPP 9557 163" *
SOURCE_IMAGE_DATE 1996 06 07 *
SOURCE_DEM_DATE 1975 01 01 *
AGENCY "WESTERN MAPPING CENTER (WMC)" *
PRODUCER "ANALYTICAL SURVEYS INC." *
PRODUCTION_SYSTEM "ORBIT OR_RECTIFY V.5.2" *
STANDARD_VERSION 1996 12 *
METADATA_DATE 1998 02 09 *
DATA_FILE_SIZE 152775090 *
BYTE_COUNT 19890 * * * * * * * * * * * * * * * * * * * * * * * * * * * * * * * * * * * * * * * * * * * * * * * * * * * * * * * * * * * * * * * * * * * * * * * * * * * * * * * * * * * * * * * * * * * * * * * * * * * * * * * * * * * * * * * * * * * * * * * * * * * * * * * * * * * * * * * * * * * * * * * * * * * * * * * * * * * * * * * * * * * * * * * * * * * * * * * * * * * * * * * * * * * * * * * * * * * * * * * * * * * *
END_USGS_HEADER *
