BEGIN_USGS_DOQ_HEADER *
QUADRANGLE_NAME "VIDAL" *
QUADRANT SE *
NORTH_LATITUDE 34 03 45.000 *
WEST_LONGITUDE -114 33 45.000 *
SOUTH_LATITUDE 34 00 00.000 *
EAST_LONGITUDE -114 30 00.000 *
PRODUCTION_DATE 1998 02 05 *
RASTER_ORDER LEFT_RIGHT/TOP_BOTTOM *
BAND_ORGANIZATION BIP *
BAND_CONTENT RED *
BAND_CONTENT GREEN *
BAND_CONTENT BLUE *
BITS_PER_PIXEL 8 *
SAMPLES_AND_LINES 6660 7710 *
HORIZONTAL_DATUM NAD83 *
HORIZONTAL_COORDINATE_SYSTEM UTM *
COORDINATE_ZONE 11 *
HORIZONTAL_UNITS METERS *
HORIZONTAL_RESOLUTION 1.000 *
SECONDARY_HORIZONTAL_DATUM NAD27 *
XY_ORIGIN 724560.000 3772230.000 *
SECONDARY_XY_ORIGIN 724638.342 3772035.405 *
NATION US *
STATE CA *
NW_QUAD_CORNER_XY 724958.335 3771766.996 *
NE_QUAD_CORNER_XY 730727.855 3771906.321 *
SE_QUAD_CORNER_XY 730897.246 3764973.926 *
SW_QUAD_CORNER_XY 725123.484 3764834.723 *
SECONDARY_NW_QUAD_XY 724963.412 3771572.405 *
SECONDARY_NE_QUAD_XY 730733.062 3771711.733 *
SECONDARY_SE_QUAD_XY 730902.448 3764779.538 *
SECONDARY_SW_QUAD_XY 725128.556 3764640.333 *
RMSE_XY 2.810 *
IMAGE_SOURCE "CIR FILM" *
SOURCE_IMAGE_ID "NAPP 9557 101" *
SOURCE_IMAGE_DATE 1996 06 07 *
SOURCE_IMAGE_ID "NAPP 9557 100" *
SOURCE_IMAGE_DATE 1996 06 07 *
SOURCE_IMAGE_ID "NAPP 9557 72" *
SOURCE_IMAGE_DATE 1996 06 07 *
SOURCE_IMAGE_ID "NAPP 9557 103" *
SOURCE_IMAGE_DATE 1996 06 07 *
SOURCE_DEM_DATE 1975 01 01 *
AGENCY "WESTERN MAPPING CENTER (WMC)" *
PRODUCER "ANALYTICAL SURVEYS INC." *
PRODUCTION_SYSTEM "ORBIT OR_RECTIFY V.5.2" *
STANDARD_VERSION 1996 12 *
METADATA_DATE 1998 02 09 *
DATA_FILE_SIZE 154065780 *
BYTE_COUNT 19980 * * * * * * * * * * * * * * * * * * * * * * * * * * * * * * * * * * * * * * * * * * * * * * * * * * * * * * * * * * * * * * * * * * * * * * * * * * * * * * * * * * * * * * * * * * * * * * * * * * * * * * * * * * * * * * * * * * * * * * * * * * * * * * * * * * * * * * * * * * * * * * * * * * * * * * * * * * * * * * * * * * * * * * * * * * * * * * * * * * * * * * * * * * * * * * * * * * * * * * *
END_USGS_HEADER *
