BEGIN_USGS_DOQ_HEADER *
QUADRANGLE_NAME "RICE" *
QUADRANT SW *
NORTH_LATITUDE 34 03 45.000 *
WEST_LONGITUDE -114 52 30.000 *
SOUTH_LATITUDE 34 00 00.000 *
EAST_LONGITUDE -114 48 45.000 *
PRODUCTION_DATE 1998 02 02 *
RASTER_ORDER LEFT_RIGHT/TOP_BOTTOM *
BAND_ORGANIZATION BIP *
BAND_CONTENT RED *
BAND_CONTENT GREEN *
BAND_CONTENT BLUE *
BITS_PER_PIXEL 8 *
SAMPLES_AND_LINES 6600 7680 *
HORIZONTAL_DATUM NAD83 *
HORIZONTAL_COORDINATE_SYSTEM UTM *
COORDINATE_ZONE 11 *
HORIZONTAL_UNITS METERS *
HORIZONTAL_RESOLUTION 1.000 *
SECONDARY_HORIZONTAL_DATUM NAD27 *
XY_ORIGIN 695730.000 3771570.000 *
SECONDARY_XY_ORIGIN 695808.635 3771375.348 *
NATION US *
STATE CA *
NW_QUAD_CORNER_XY 696112.193 3771123.369 *
NE_QUAD_CORNER_XY 701881.236 3771245.029 *
SE_QUAD_CORNER_XY 702029.418 3764313.216 *
SW_QUAD_CORNER_XY 696256.135 3764191.662 *
SECONDARY_NW_QUAD_XY 696116.618 3770928.763 *
SECONDARY_NE_QUAD_XY 701885.791 3771050.427 *
SECONDARY_SE_QUAD_XY 702033.970 3764118.814 *
SECONDARY_SW_QUAD_XY 696260.556 3763997.258 *
RMSE_XY 1.116 *
IMAGE_SOURCE "CIR FILM" *
SOURCE_IMAGE_ID "NAPP 9562 125" *
SOURCE_IMAGE_DATE 1996 06 15 *
SOURCE_DEM_DATE 1977 01 01 *
AGENCY "WESTERN MAPPING CENTER (WMC)" *
PRODUCER "ANALYTICAL SURVEYS INC." *
PRODUCTION_SYSTEM "ORBIT OR_RECTIFY V.5.2" *
STANDARD_VERSION 1996 12 *
METADATA_DATE 1998 02 02 *
DATA_FILE_SIZE 152083800 *
BYTE_COUNT 19800 * * * * * * * * * * * * * * * * * * * * * * * * * * * * * * * * * * * * * * * * * * * * * * * * * * * * * * * * * * * * * * * * * * * * * * * * * * * * * * * * * * * * * * * * * * * * * * * * * * * * * * * * * * * * * * * * * * * * * * * * * * * * * * * * * * * * * * * * * * * * * * * * * * * * * * * * * * * * * * * * * * * * * * * * * * * * * * * * * * * * * * * * * * * * * * * * * * * * * * * * * * *
END_USGS_HEADER *
