BEGIN_USGS_DOQ_HEADER *
QUADRANGLE_NAME "ARICA MOUNTAINS" *
QUADRANT NW *
NORTH_LATITUDE 34 07 30.000 *
WEST_LONGITUDE -115 00 00.000 *
SOUTH_LATITUDE 34 03 45.000 *
EAST_LONGITUDE -114 56 15.000 *
PRODUCTION_DATE 1998 01 26 *
RASTER_ORDER LEFT_RIGHT/TOP_BOTTOM *
BAND_ORGANIZATION BIP *
BAND_CONTENT RED *
BAND_CONTENT GREEN *
BAND_CONTENT BLUE *
BITS_PER_PIXEL 8 *
SAMPLES_AND_LINES 6600 7680 *
HORIZONTAL_DATUM NAD83 *
HORIZONTAL_COORDINATE_SYSTEM UTM *
COORDINATE_ZONE 11 *
HORIZONTAL_UNITS METERS *
HORIZONTAL_RESOLUTION 1.000 *
SECONDARY_HORIZONTAL_DATUM NAD27 *
XY_ORIGIN 684060.000 3778260.000 *
SECONDARY_XY_ORIGIN 684138.715 3778065.240 *
NATION US *
STATE CA *
NW_QUAD_CORNER_XY 684438.682 3777822.204 *
NE_QUAD_CORNER_XY 690203.307 3777936.903 *
SE_QUAD_CORNER_XY 690343.237 3771005.239 *
SW_QUAD_CORNER_XY 684574.367 3770890.641 *
SECONDARY_NW_QUAD_XY 684442.851 3777627.394 *
SECONDARY_NE_QUAD_XY 690207.606 3777742.096 *
SECONDARY_SE_QUAD_XY 690347.532 3770810.631 *
SECONDARY_SW_QUAD_XY 684578.531 3770696.030 *
RMSE_XY 1.304 *
IMAGE_SOURCE "CIR FILM" *
SOURCE_IMAGE_ID "NAPP 9572 139" *
SOURCE_IMAGE_DATE 1996 09 27 *
SOURCE_DEM_DATE 1977 01 01 *
AGENCY "WESTERN MAPPING CENTER (WMC)" *
PRODUCER "ANALYTICAL SURVEYS INC." *
PRODUCTION_SYSTEM "ORBIT OR_RECTIFY V.5.2" *
STANDARD_VERSION 1996 12 *
METADATA_DATE 1998 01 26 *
DATA_FILE_SIZE 152083800 *
BYTE_COUNT 19800 * * * * * * * * * * * * * * * * * * * * * * * * * * * * * * * * * * * * * * * * * * * * * * * * * * * * * * * * * * * * * * * * * * * * * * * * * * * * * * * * * * * * * * * * * * * * * * * * * * * * * * * * * * * * * * * * * * * * * * * * * * * * * * * * * * * * * * * * * * * * * * * * * * * * * * * * * * * * * * * * * * * * * * * * * * * * * * * * * * * * * * * * * * * * * * * * * * * * * * * * * * *
END_USGS_HEADER *
