BEGIN_USGS_DOQ_HEADER *
QUADRANGLE_NAME "MOHAVE SPRINGS" *
QUADRANT SE *
WEST_LONGITUDE -114 03 45.000 *
EAST_LONGITUDE -114 00 00.000 *
NORTH_LATITUDE 34 26 15.000 *
SOUTH_LATITUDE 34 22 30.000 *
PRODUCTION_DATE 2001 09 24 *
RASTER_ORDER LEFT_RIGHT/TOP_BOTTOM *
BAND_ORGANIZATION BIP *
BAND_CONTENT RED *
BAND_CONTENT GREEN *
BAND_CONTENT BLUE *
BITS_PER_PIXEL 8 *
SAMPLES_AND_LINES 6660 7740 *
HORIZONTAL_DATUM NAD83 *
HORIZONTAL_COORDINATE_SYSTEM UTM *
COORDINATE_ZONE 11 *
HORIZONTAL_UNITS METERS *
HORIZONTAL_RESOLUTION 1.000 *
SECONDARY_HORIZONTAL_DATUM NAD27 *
XY_ORIGIN 769530.000 3815070.000 *
SECONDARY_XY_ORIGIN 769607.837 3814874.785 *
NATION US *
STATE AZ *
NW_QUAD_CORNER_XY 769916.081 3814581.723 *
NE_QUAD_CORNER_XY 775660.862 3814750.206 *
SE_QUAD_CORNER_XY 775866.197 3807816.410 *
SW_QUAD_CORNER_XY 770117.126 3807648.070 *
SECONDARY_NW_QUAD_XY 769922.235 3814385.975 *
SECONDARY_NE_QUAD_XY 775667.147 3814554.461 *
SECONDARY_SE_QUAD_XY 775872.476 3807620.861 *
SECONDARY_SW_QUAD_XY 770123.274 3807452.517 *
RMSE_XY 1.910 *
IMAGE_SOURCE "CIR FILM" *
SOURCE_IMAGE_ID "NAPP 9556 27" *
SOURCE_IMAGE_DATE 1996 06 07 *
SOURCE_DEM_DATE 1990 00 00 *
AGENCY "WESTERN MAPPING CENTER (WMC)" *
PRODUCER "SANBORN COLORADO, L.L.C." *
PRODUCTION_SYSTEM "ORBIT OR_RECTIFY V.5.2" *
STANDARD_VERSION 1996 12 *
METADATA_DATE 2001 09 25 *
DATA_FILE_SIZE 154665180 *
BYTE_COUNT 19980 * * * * * * * * * * * * * * * * * * * * * * * * * * * * * * * * * * * * * * * * * * * * * * * * * * * * * * * * * * * * * * * * * * * * * * * * * * * * * * * * * * * * * * * * * * * * * * * * * * * * * * * * * * * * * * * * * * * * * * * * * * * * * * * * * * * * * * * * * * * * * * * * * * * * * * * * * * * * * * * * * * * * * * * * * * * * * * * * * * * * * * * * * * * * * * * * * * * * * * * * * * * * *
END_USGS_HEADER *
