BEGIN_USGS_DOQ_HEADER *
QUADRANGLE_NAME "CROSSMAN PEAK" *
QUADRANT SE *
WEST_LONGITUDE -114 11 15.000 *
EAST_LONGITUDE -114 07 30.000 *
NORTH_LATITUDE 34 33 45.000 *
SOUTH_LATITUDE 34 30 00.000 *
PRODUCTION_DATE 2001 09 21 *
RASTER_ORDER LEFT_RIGHT/TOP_BOTTOM *
BAND_ORGANIZATION BIP *
BAND_CONTENT RED *
BAND_CONTENT GREEN *
BAND_CONTENT BLUE *
BITS_PER_PIXEL 8 *
SAMPLES_AND_LINES 6630 7740 *
HORIZONTAL_DATUM NAD83 *
HORIZONTAL_COORDINATE_SYSTEM UTM *
COORDINATE_ZONE 11 *
HORIZONTAL_UNITS METERS *
HORIZONTAL_RESOLUTION 1.000 *
SECONDARY_HORIZONTAL_DATUM NAD27 *
XY_ORIGIN 757650.000 3828600.000 *
SECONDARY_XY_ORIGIN 757727.921 3828404.593 *
NATION US *
STATE AZ *
NW_QUAD_CORNER_XY 758041.006 3828122.343 *
NE_QUAD_CORNER_XY 763776.960 3828283.984 *
SE_QUAD_CORNER_XY 763974.345 3821350.364 *
SW_QUAD_CORNER_XY 758234.090 3821188.858 *
SECONDARY_NW_QUAD_XY 758046.909 3827926.198 *
SECONDARY_NE_QUAD_XY 763782.993 3828087.843 *
SECONDARY_SE_QUAD_XY 763980.374 3821154.417 *
SECONDARY_SW_QUAD_XY 758239.987 3820992.907 *
RMSE_XY 2.470 *
IMAGE_SOURCE "CIR FILM" *
SOURCE_IMAGE_ID "NAPP 9572 174" *
SOURCE_IMAGE_DATE 1996 09 27 *
SOURCE_DEM_DATE 1969 00 00 *
AGENCY "WESTERN MAPPING CENTER (WMC)" *
PRODUCER "SANBORN COLORADO, L.L.C." *
PRODUCTION_SYSTEM "ORBIT OR_RECTIFY V.5.2" *
STANDARD_VERSION 1996 12 *
METADATA_DATE 2001 09 21 *
DATA_FILE_SIZE 153968490 *
BYTE_COUNT 19890 * * * * * * * * * * * * * * * * * * * * * * * * * * * * * * * * * * * * * * * * * * * * * * * * * * * * * * * * * * * * * * * * * * * * * * * * * * * * * * * * * * * * * * * * * * * * * * * * * * * * * * * * * * * * * * * * * * * * * * * * * * * * * * * * * * * * * * * * * * * * * * * * * * * * * * * * * * * * * * * * * * * * * * * * * * * * * * * * * * * * * * * * * * * * * * * * * * * * * * * * * * * *
END_USGS_HEADER *
