BEGIN_USGS_DOQ_HEADER *
QUADRANGLE_NAME "FRANCONIA" *
QUADRANT SE *
WEST_LONGITUDE -114 18 45.000 *
EAST_LONGITUDE -114 15 00.000 *
NORTH_LATITUDE 34 41 15.000 *
SOUTH_LATITUDE 34 37 30.000 *
PRODUCTION_DATE 2001 08 17 *
RASTER_ORDER LEFT_RIGHT/TOP_BOTTOM *
BAND_ORGANIZATION BIP *
BAND_CONTENT RED *
BAND_CONTENT GREEN *
BAND_CONTENT BLUE *
BITS_PER_PIXEL 8 *
SAMPLES_AND_LINES 6630 7740 *
HORIZONTAL_DATUM NAD83 *
HORIZONTAL_COORDINATE_SYSTEM UTM *
COORDINATE_ZONE 11 *
HORIZONTAL_UNITS METERS *
HORIZONTAL_RESOLUTION 1.000 *
SECONDARY_HORIZONTAL_DATUM NAD27 *
XY_ORIGIN 745800.000 3842160.000 *
SECONDARY_XY_ORIGIN 745877.978 3841964.447 *
NATION US *
STATE AZ *
NW_QUAD_CORNER_XY 746199.581 3841676.358 *
NE_QUAD_CORNER_XY 751926.695 3841831.133 *
SE_QUAD_CORNER_XY 752116.079 3834897.671 *
SW_QUAD_CORNER_XY 746384.651 3834743.024 *
SECONDARY_NW_QUAD_XY 746205.231 3841479.821 *
SECONDARY_NE_QUAD_XY 751932.477 3841634.600 *
SECONDARY_SE_QUAD_XY 752121.856 3834701.330 *
SECONDARY_SW_QUAD_XY 746390.296 3834546.679 *
RMSE_XY 1.860 *
IMAGE_SOURCE "CIR FILM" *
SOURCE_IMAGE_ID "NAPP 9556 150" *
SOURCE_IMAGE_DATE 1996 06 07 *
SOURCE_IMAGE_ID "NAPP 9556 167" *
SOURCE_IMAGE_DATE 1996 06 07 *
SOURCE_DEM_DATE 1970 00 00 *
AGENCY "WESTERN MAPPING CENTER (WMC)" *
PRODUCER "SANBORN COLORADO, L.L.C." *
PRODUCTION_SYSTEM "ORBIT OR_RECTIFY V.5.2" *
STANDARD_VERSION 1996 12 *
METADATA_DATE 2001 10 01 *
DATA_FILE_SIZE 153968490 *
BYTE_COUNT 19890 * * * * * * * * * * * * * * * * * * * * * * * * * * * * * * * * * * * * * * * * * * * * * * * * * * * * * * * * * * * * * * * * * * * * * * * * * * * * * * * * * * * * * * * * * * * * * * * * * * * * * * * * * * * * * * * * * * * * * * * * * * * * * * * * * * * * * * * * * * * * * * * * * * * * * * * * * * * * * * * * * * * * * * * * * * * * * * * * * * * * * * * * * * * * * * * * * * * * * * * * * *
END_USGS_HEADER *
