BEGIN_USGS_DOQ_HEADER *
QUADRANGLE_NAME "BOUNDARY CONE" *
QUADRANT NW *
WEST_LONGITUDE -114 30 00.000 *
EAST_LONGITUDE -114 26 15.000 *
NORTH_LATITUDE 35 00 00.000 *
SOUTH_LATITUDE 34 56 15.000 *
PRODUCTION_DATE 2001 08 10 *
RASTER_ORDER LEFT_RIGHT/TOP_BOTTOM *
BAND_ORGANIZATION BIP *
BAND_CONTENT RED *
BAND_CONTENT GREEN *
BAND_CONTENT BLUE *
BITS_PER_PIXEL 8 *
SAMPLES_AND_LINES 6570 7710 *
HORIZONTAL_DATUM NAD83 *
HORIZONTAL_COORDINATE_SYSTEM UTM *
COORDINATE_ZONE 11 *
HORIZONTAL_UNITS METERS *
HORIZONTAL_RESOLUTION 1.000 *
SECONDARY_HORIZONTAL_DATUM NAD27 *
XY_ORIGIN 727770.000 3876360.000 *
SECONDARY_XY_ORIGIN 727847.862 3876164.066 *
NATION US *
STATE AZ *
NW_QUAD_CORNER_XY 728154.102 3875899.141 *
NE_QUAD_CORNER_XY 733859.250 3876043.803 *
SE_QUAD_CORNER_XY 734037.090 3869110.430 *
SW_QUAD_CORNER_XY 728327.597 3868965.883 *
SECONDARY_NW_QUAD_XY 728159.381 3875701.643 *
SECONDARY_NE_QUAD_XY 733864.661 3875846.309 *
SECONDARY_SE_QUAD_XY 734042.497 3868913.124 *
SECONDARY_SW_QUAD_XY 728332.871 3868768.573 *
RMSE_XY 1.700 *
IMAGE_SOURCE "CIR FILM" *
SOURCE_IMAGE_ID "NAPP 9557 42" *
SOURCE_IMAGE_DATE 1996 06 07 *
SOURCE_DEM_DATE 2001 01 01 *
AGENCY "WESTERN MAPPING CENTER (WMC)" *
PRODUCER "SANBORN COLORADO, L.L.C." *
PRODUCTION_SYSTEM "ORBIT OR_RECTIFY V.5.2" *
STANDARD_VERSION 1996 12 *
METADATA_DATE 2001 08 13 *
DATA_FILE_SIZE 151983810 *
BYTE_COUNT 19710 * * * * * * * * * * * * * * * * * * * * * * * * * * * * * * * * * * * * * * * * * * * * * * * * * * * * * * * * * * * * * * * * * * * * * * * * * * * * * * * * * * * * * * * * * * * * * * * * * * * * * * * * * * * * * * * * * * * * * * * * * * * * * * * * * * * * * * * * * * * * * * * * * * * * * * * * * * * * * * * * * * * * * * * * * * * * * * * * * * * * * * * * * * * * * * * * * * * * * * * * * *
END_USGS_HEADER *
