BEGIN_USGS_DOQ_HEADER *
QUADRANGLE_NAME "PARKER" 3.45 or 7.5-min. name*
QUADRANT NE quadrant indicator if cell size = 3.75-minutes*
WEST_LONGITUDE -114 18 45.000 signed deg min sec SDDD MM SS.SSS*
EAST_LONGITUDE -114 15 0.000 signed deg min sec SDDD MM SS.SSS*
NORTH_LATITUDE 34 15 0.000 signed deg min sec SDDD MM SS.SSS*
SOUTH_LATITUDE 34 11 15.000 signed deg min sec SDDD MM SS.SSS*
PRODUCTION_DATE 1996 5 28 yyyy mm dd*
RASTER_ORDER LEFT_RIGHT/TOP_BOTTOM video display order*
BAND_ORGANIZATION "SINGLE FILE" single file or BSQ, or BIL or BIP*
BAND_CONTENT BLACK&WHITE black&white or red green blue*
BITS_PER_PIXEL 8 radiometric resolution*
SAMPLES_AND_LINES 6620 7690 number of columns and rows*
HORIZONTAL_DATUM NAD83 primary horizontal datum*
HORIZONTAL_COORDINATE_SYSTEM UTM *
COORDINATE_ZONE 11 coordinate system zone number*
HORIZONTAL_UNITS METERS coordinate system units*
HORIZONTAL_RESOLUTION 1.00 pixel horiz. ground sample distance*
SECONDARY_HORIZONTAL_DATUM NAD27 secondary horizontal datum*
XY_ORIGIN 747115.000 3793599.000 coord. of upper left pixel pri. datum*
SECONDARY_XY_ORIGIN 747193.000 3793405.000 coord upper left pixel sec datum*
NATION US nation code*
STATE CA state fip code*
NW_QUAD_CORNER_XY 747488.897 3793144.180 XY coords. of pri. NW quad corner*
NE_QUAD_CORNER_XY 753246.066 3793298.046 XY coords. of pri. NE quad corner*
SE_QUAD_CORNER_XY 753433.343 3786364.966 XY coords. of pri. SE quad corner*
SW_QUAD_CORNER_XY 747671.907 3786211.233 XY coords. of pri. SW quad corner*
SECONDARY_NW_QUAD_XY 747494.511 3792949.006 XY coords. - sec. NW quad cor.*
SECONDARY_NE_QUAD_XY 753251.811 3793102.875 XY coords. - sec. NE quad cor.*
SECONDARY_SE_QUAD_XY 753439.082 3786169.994 XY coords. - sec. SE quad cor.*
SECONDARY_SW_QUAD_XY 747677.516 3786016.257 XY coords. - sec. SW quad cor.*
RMSE_XY 2.00 doq horiz. accuracy*
IMAGE_SOURCE "BLACK AND WHITE FILM" b&w, cir, natural color, other*
SOURCE_IMAGE_ID "NAPP 6811 025" source image id*
SOURCE_IMAGE_DATE 1994 5 22 source image date as yyyy mm dd*
SOURCE_DEM_DATE 1996 5 28 source dem date yyyy mm dd*
AGENCY "WESTERN MAPPING CENTER (WMC)" oversight agency*
PRODUCER "WMC" producer/contractor*
PRODUCTION_SYSTEM "DV2.6.3 10/9OV2.4 5/95" production system*
STANDARD_VERSION 1996 12 version of DOQ standard*
METADATA_DATE 1997 7 1 date created or changed, yyyy mm dd*
DATA_FILE_SIZE 50914420 data set size in bytes*
BYTE_COUNT 6620 header byte count* * * * * * * * * * * * * * * * * * * * * * * * * * * * * * * * * * * * * * * *
END_USGS_HEADER *
