BEGIN_USGS_DOQ_HEADER *
QUADRANGLE_NAME "PARKER NW" 3.45 or 7.5-min. name*
QUADRANT NE quadrant indicator if cell size = 3.75-minutes*
WEST_LONGITUDE -114 26 15.000 signed deg min sec SDDD MM SS.SSS*
EAST_LONGITUDE -114 22 30.000 signed deg min sec SDDD MM SS.SSS*
NORTH_LATITUDE 34 15 0.000 signed deg min sec SDDD MM SS.SSS*
SOUTH_LATITUDE 34 11 15.000 signed deg min sec SDDD MM SS.SSS*
PRODUCTION_DATE 1996 5 28 yyyy mm dd*
RASTER_ORDER LEFT_RIGHT/TOP_BOTTOM video display order*
BAND_ORGANIZATION "SINGLE FILE" single file or BSQ, or BIL or BIP*
BAND_CONTENT BLACK&WHITE black&white or red green blue*
BITS_PER_PIXEL 8 radiometric resolution*
SAMPLES_AND_LINES 6612 7683 number of columns and rows*
HORIZONTAL_DATUM NAD83 primary horizontal datum*
HORIZONTAL_COORDINATE_SYSTEM UTM *
COORDINATE_ZONE 11 coordinate system zone number*
HORIZONTAL_UNITS METERS coordinate system units*
HORIZONTAL_RESOLUTION 1.00 pixel horiz. ground sample distance*
SECONDARY_HORIZONTAL_DATUM NAD27 secondary horizontal datum*
XY_ORIGIN 735601.000 3793295.000 coord. of upper left pixel pri. datum*
SECONDARY_XY_ORIGIN 735679.245 3793100.070 coord upper left pixel sec datum*
NATION US nation code*
STATE CA state fip code*
NW_QUAD_CORNER_XY 735974.882 3792847.082 XY coords. of pri. NW quad corner*
NE_QUAD_CORNER_XY 741731.837 3792993.859 XY coords. of pri. NE quad corner*
SE_QUAD_CORNER_XY 741910.581 3786061.041 XY coords. of pri. SE quad corner*
SW_QUAD_CORNER_XY 736149.362 3785914.392 XY coords. of pri. SW quad corner*
SECONDARY_NW_QUAD_XY 735980.235 3792651.902 XY coords. - sec. NW quad cor.*
SECONDARY_NE_QUAD_XY 741737.320 3792798.682 XY coords. - sec. NE quad cor.*
SECONDARY_SE_QUAD_XY 741916.059 3785866.062 XY coords. - sec. SE quad cor.*
SECONDARY_SW_QUAD_XY 736154.709 3785719.409 XY coords. - sec. SW quad cor.*
RMSE_XY 1.90 doq horiz. accuracy*
IMAGE_SOURCE "BLACK AND WHITE FILM" b&w, cir, natural color, other*
SOURCE_IMAGE_ID "NAPP 6799 141" source image id*
SOURCE_IMAGE_DATE 1994 5 21 source image date as yyyy mm dd*
SOURCE_DEM_DATE 1996 5 28 source dem date yyyy mm dd*
AGENCY "WESTERN MAPPING CENTER (WMC)" oversight agency*
PRODUCER "WMC" producer/contractor*
PRODUCTION_SYSTEM "DV2.6.3 10/9OV2.4 5/95" production system*
STANDARD_VERSION 1996 12 version of DOQ standard*
METADATA_DATE 1997 7 1 date created or changed, yyyy mm dd*
DATA_FILE_SIZE 50806608 data set size in bytes*
BYTE_COUNT 6612 header byte count* * * * * * * * * * * * * * * * * * * * * * * * * * * * * * * * * * * * * * * *
END_USGS_HEADER *
