BEGIN_USGS_DOQ_HEADER *
QUADRANGLE_NAME "VIDAL NW" *
QUADRANT NE *
NORTH_LATITUDE 34 15 00.000 *
WEST_LONGITUDE -114 41 15.000 *
SOUTH_LATITUDE 34 11 15.000 *
EAST_LONGITUDE -114 37 30.000 *
PRODUCTION_DATE 1998 05 27 *
RASTER_ORDER LEFT_RIGHT/TOP_BOTTOM *
BAND_ORGANIZATION "SINGLE FILE" *
BAND_CONTENT BLACK&WHITE *
BITS_PER_PIXEL 8 *
SAMPLES_AND_LINES 6630 7710 *
HORIZONTAL_DATUM NAD83 *
HORIZONTAL_COORDINATE_SYSTEM UTM *
COORDINATE_ZONE 11 *
HORIZONTAL_UNITS METERS *
HORIZONTAL_RESOLUTION 1.000 *
SECONDARY_HORIZONTAL_DATUM NAD27 *
XY_ORIGIN 712560.000 3792750.000 *
SECONDARY_XY_ORIGIN 712638.458 3792555.054 *
NATION US *
STATE CA *
NW_QUAD_CORNER_XY 712948.076 3792295.413 *
NE_QUAD_CORNER_XY 718704.631 3792428.016 *
SE_QUAD_CORNER_XY 718866.320 3785495.687 *
SW_QUAD_CORNER_XY 713105.503 3785363.198 *
SECONDARY_NW_QUAD_XY 712952.906 3792100.220 *
SECONDARY_NE_QUAD_XY 718709.591 3792232.826 *
SECONDARY_SE_QUAD_XY 718871.276 3785300.695 *
SECONDARY_SW_QUAD_XY 713110.328 3785168.203 *
RMSE_XY 1.786 *
IMAGE_SOURCE "BLACK AND WHITE FILM" *
SOURCE_IMAGE_ID "NAPP 6798 190" *
SOURCE_IMAGE_DATE 1994 05 21 *
SOURCE_DEM_DATE 1973 01 01 *
AGENCY "WESTERN MAPPING CENTER (WMC)" *
PRODUCER "ANALYTICAL SURVEYS INC." *
PRODUCTION_SYSTEM "ORBIT OR_RECTIFY V.5.2" *
STANDARD_VERSION 1996 12 *
METADATA_DATE 1998 05 27 *
DATA_FILE_SIZE 51123930 *
BYTE_COUNT 6630 * * * * * * * * * * * * * * * * * * * * * * * * * * * * * * * * * * * * * * * *
END_USGS_HEADER *
