BEGIN_USGS_DOQ_HEADER *
QUADRANGLE_NAME "VIDAL NW" *
QUADRANT SW *
NORTH_LATITUDE 34 11 15.000 *
WEST_LONGITUDE -114 45 00.000 *
SOUTH_LATITUDE 34 07 30.000 *
EAST_LONGITUDE -114 41 15.000 *
PRODUCTION_DATE 1998 05 27 *
RASTER_ORDER LEFT_RIGHT/TOP_BOTTOM *
BAND_ORGANIZATION "SINGLE FILE" *
BAND_CONTENT BLACK&WHITE *
BITS_PER_PIXEL 8 *
SAMPLES_AND_LINES 6630 7680 *
HORIZONTAL_DATUM NAD83 *
HORIZONTAL_COORDINATE_SYSTEM UTM *
COORDINATE_ZONE 11 *
HORIZONTAL_UNITS METERS *
HORIZONTAL_RESOLUTION 1.000 *
SECONDARY_HORIZONTAL_DATUM NAD27 *
XY_ORIGIN 706950.000 3785670.000 *
SECONDARY_XY_ORIGIN 707028.511 3785475.157 *
NATION US *
STATE CA *
NW_QUAD_CORNER_XY 707344.780 3785234.249 *
NE_QUAD_CORNER_XY 713105.503 3785363.198 *
SE_QUAD_CORNER_XY 713262.676 3778431.043 *
SW_QUAD_CORNER_XY 707497.698 3778302.205 *
SECONDARY_NW_QUAD_XY 707349.474 3785039.251 *
SECONDARY_NE_QUAD_XY 713110.328 3785168.203 *
SECONDARY_SE_QUAD_XY 713267.496 3778236.247 *
SECONDARY_SW_QUAD_XY 707502.388 3778107.406 *
RMSE_XY 1.426 *
IMAGE_SOURCE "BLACK AND WHITE FILM" *
SOURCE_IMAGE_ID "NAPP 6798 89" *
SOURCE_IMAGE_DATE 1994 05 21 *
SOURCE_DEM_DATE 1973 01 01 *
AGENCY "WESTERN MAPPING CENTER (WMC)" *
PRODUCER "ANALYTICAL SURVEYS INC." *
PRODUCTION_SYSTEM "ORBIT OR_RECTIFY V.5.2" *
STANDARD_VERSION 1996 12 *
METADATA_DATE 1998 05 27 *
DATA_FILE_SIZE 50925030 *
BYTE_COUNT 6630 * * * * * * * * * * * * * * * * * * * * * * * * * * * * * * * * * * * * * * * *
END_USGS_HEADER *
