BEGIN_USGS_DOQ_HEADER *
QUADRANGLE_NAME "HORN SPRING" *
QUADRANT NW *
NORTH_LATITUDE 34 15 00.000 *
WEST_LONGITUDE -114 52 30.000 *
SOUTH_LATITUDE 34 11 15.000 *
EAST_LONGITUDE -114 48 45.000 *
PRODUCTION_DATE 1998 05 27 *
RASTER_ORDER LEFT_RIGHT/TOP_BOTTOM *
BAND_ORGANIZATION "SINGLE FILE" *
BAND_CONTENT BLACK&WHITE *
BITS_PER_PIXEL 8 *
SAMPLES_AND_LINES 6630 7680 *
HORIZONTAL_DATUM NAD83 *
HORIZONTAL_COORDINATE_SYSTEM UTM *
COORDINATE_ZONE 11 *
HORIZONTAL_UNITS METERS *
HORIZONTAL_RESOLUTION 1.000 *
SECONDARY_HORIZONTAL_DATUM NAD27 *
XY_ORIGIN 695280.000 3792360.000 *
SECONDARY_XY_ORIGIN 695358.582 3792165.057 *
NATION US *
STATE CA *
NW_QUAD_CORNER_XY 695678.962 3791918.853 *
NE_QUAD_CORNER_XY 701435.244 3792040.832 *
SE_QUAD_CORNER_XY 701584.148 3785108.837 *
SW_QUAD_CORNER_XY 695823.606 3784986.964 *
SECONDARY_NW_QUAD_XY 695683.400 3791723.652 *
SECONDARY_NE_QUAD_XY 701439.813 3791845.633 *
SECONDARY_SE_QUAD_XY 701588.712 3784913.837 *
SECONDARY_SW_QUAD_XY 695828.039 3784791.961 *
RMSE_XY 1.313 *
IMAGE_SOURCE "BLACK AND WHITE FILM" *
SOURCE_IMAGE_ID "NAPP 6811 286" *
SOURCE_IMAGE_DATE 1994 05 26 *
SOURCE_IMAGE_ID "NAPP 6798 24" *
SOURCE_IMAGE_DATE 1994 05 21 *
SOURCE_IMAGE_ID "NAPP 6811 215" *
SOURCE_IMAGE_DATE 1994 05 26 *
SOURCE_DEM_DATE 1983 01 01 *
AGENCY "WESTERN MAPPING CENTER (WMC)" *
PRODUCER "ANALYTICAL SURVEYS INC." *
PRODUCTION_SYSTEM "ORBIT OR_RECTIFY V.5.2" *
STANDARD_VERSION 1996 12 *
METADATA_DATE 1998 05 29 *
DATA_FILE_SIZE 50925030 *
BYTE_COUNT 6630 * * * * * * * * * * * * * * * * * * * * * * * * * * * * * * * * * * * *
END_USGS_HEADER *
