BEGIN_USGS_DOQ_HEADER *
QUADRANGLE_NAME "GENE WASH" 3.45 or 7.5-min. name*
QUADRANT SW quadrant indicator if cell size = 3.75-minutes*
WEST_LONGITUDE -114 15 0.000 signed deg min sec SDDD MM SS.SSS*
EAST_LONGITUDE -114 11 15.000 signed deg min sec SDDD MM SS.SSS*
NORTH_LATITUDE 34 18 45.000 signed deg min sec SDDD MM SS.SSS*
SOUTH_LATITUDE 34 15 0.000 signed deg min sec SDDD MM SS.SSS*
PRODUCTION_DATE 1996 7 16 yyyy mm dd*
RASTER_ORDER LEFT_RIGHT/TOP_BOTTOM video display order*
BAND_ORGANIZATION "SINGLE FILE" single file or BSQ, or BIL or BIP*
BAND_CONTENT BLACK&WHITE black&white or red green blue*
BITS_PER_PIXEL 8 radiometric resolution*
SAMPLES_AND_LINES 6620 7694 number of columns and rows*
HORIZONTAL_DATUM NAD83 primary horizontal datum*
HORIZONTAL_COORDINATE_SYSTEM UTM *
COORDINATE_ZONE 11 coordinate system zone number*
HORIZONTAL_UNITS METERS coordinate system units*
HORIZONTAL_RESOLUTION 1.00 pixel horiz. ground sample distance*
SECONDARY_HORIZONTAL_DATUM NAD27 secondary horizontal datum*
XY_ORIGIN 752685.000 3800690.000 coord. of upper left pixel pri. datum*
SECONDARY_XY_ORIGIN 752762.000 3800496.000 coord upper left pixel sec datum*
NATION US nation code*
STATE CA state fip code*
NW_QUAD_CORNER_XY 753058.488 3800231.180 XY coords. of pri. NW quad corner*
NE_QUAD_CORNER_XY 758811.495 3800388.727 XY coords. of pri. NE quad corner*
SE_QUAD_CORNER_XY 759003.347 3793455.457 XY coords. of pri. SE quad corner*
SW_QUAD_CORNER_XY 753246.066 3793298.046 XY coords. of pri. SW quad corner*
SECONDARY_NW_QUAD_XY 753064.238 3800035.813 XY coords. - sec. NW quad cor.*
SECONDARY_NE_QUAD_XY 758817.376 3800193.363 XY coords. - sec. NE quad cor.*
SECONDARY_SE_QUAD_XY 759009.222 3793260.291 XY coords. - sec. SE quad cor.*
SECONDARY_SW_QUAD_XY 753251.811 3793102.875 XY coords. - sec. SW quad cor.*
RMSE_XY 4.90 doq horiz. accuracy*
IMAGE_SOURCE "BLACK AND WHITE FILM" b&w, cir, natural color, other*
SOURCE_IMAGE_ID "PAPP 1811 838" source image id*
SOURCE_IMAGE_DATE 1994 5 21 source image date as yyyy mm dd*
SOURCE_DEM_DATE 1996 7 16 source dem date yyyy mm dd*
AGENCY "WESTERN MAPPING CENTER (WMC)" oversight agency*
PRODUCER "WMC" producer/contractor*
PRODUCTION_SYSTEM "DV2.6.3 10/9OV2.4 5/95" production system*
STANDARD_VERSION 1996 12 version of DOQ standard*
METADATA_DATE 1997 5 20 date created or changed, yyyy mm dd*
DATA_FILE_SIZE 50940900 data set size in bytes*
BYTE_COUNT 6620 header byte count* * * * * * * * * * * * * * * * * * * * * * * * * * * * * * * * * * * * * * * *
END_USGS_HEADER *
