BEGIN_USGS_DOQ_HEADER *
QUADRANGLE_NAME "SAVAHIA PEAK" 3.45 or 7.5-min. name*
QUADRANT SW quadrant indicator if cell size = 3.75-minutes*
WEST_LONGITUDE -114 37 30.000 signed deg min sec SDDD MM SS.SSS*
EAST_LONGITUDE -114 33 45.000 signed deg min sec SDDD MM SS.SSS*
NORTH_LATITUDE 34 18 45.000 signed deg min sec SDDD MM SS.SSS*
SOUTH_LATITUDE 34 15 0.000 signed deg min sec SDDD MM SS.SSS*
PRODUCTION_DATE 1997 3 19 yyyy mm dd*
RASTER_ORDER LEFT_RIGHT/TOP_BOTTOM video display order*
BAND_ORGANIZATION "SINGLE FILE" single file or BSQ, or BIL or BIP*
BAND_CONTENT BLACK&WHITE black&white or red green blue*
BITS_PER_PIXEL 8 radiometric resolution*
SAMPLES_AND_LINES 6630 7680 number of columns and rows*
HORIZONTAL_DATUM NAD83 primary horizontal datum*
HORIZONTAL_COORDINATE_SYSTEM UTM *
COORDINATE_ZONE 11 coordinate system zone number*
HORIZONTAL_UNITS METERS coordinate system units*
HORIZONTAL_RESOLUTION 1.00 pixel horiz. ground sample distance*
SECONDARY_HORIZONTAL_DATUM NAD27 secondary horizontal datum*
XY_ORIGIN 718140.000 3799800.000 coord. of upper left pixel pri. datum*
SECONDARY_XY_ORIGIN 718218.347 3799604.952 coord upper left pixel sec datum*
NATION US nation code*
STATE CA state fip code*
NW_QUAD_CORNER_XY 718542.681 3799360.403 XY coords. of pri. NW quad corner*
NE_QUAD_CORNER_XY 724295.062 3799496.666 XY coords. of pri. NE quad corner*
SE_QUAD_CORNER_XY 724461.282 3792564.161 XY coords. of pri. SE quad corner*
SW_QUAD_CORNER_XY 718704.631 3792428.016 XY coords. of pri. SW quad corner*
SECONDARY_NW_QUAD_XY 718547.646 3799165.016 XY coords. - sec. NW quad cor.*
SECONDARY_NE_QUAD_XY 724300.158 3799301.282 XY coords. - sec. NE quad cor.*
SECONDARY_SE_QUAD_XY 724466.373 3792368.975 XY coords. - sec. SE quad cor.*
SECONDARY_SW_QUAD_XY 718709.591 3792232.826 XY coords. - sec. SW quad cor.*
RMSE_XY 2.10 doq horiz. accuracy*
IMAGE_SOURCE "BLACK AND WHITE FILM" b&w, cir, natural color, other*
SOURCE_IMAGE_ID "NAPP 6799 020" source image id*
SOURCE_IMAGE_DATE 1994 5 21 source image date as yyyy mm dd*
SOURCE_DEM_DATE 1997 3 19 source dem date yyyy mm dd*
AGENCY "WESTERN MAPPING CENTER (WMC)" oversight agency*
PRODUCER "Analytical Surveys" producer/contractor*
PRODUCTION_SYSTEM "ORBIT OR_RECTIFY V.5.2" production system*
STANDARD_VERSION 1996 12 version of DOQ standard*
METADATA_DATE 1997 11 7 date created or changed, yyyy mm dd*
DATA_FILE_SIZE 50925030 data set size in bytes*
BYTE_COUNT 6630 header byte count* * * * * * * * * * * * * * * * * * * * * * * * * * * * * * * * * * * * * * * *
END_USGS_HEADER *
