BEGIN_USGS_DOQ_HEADER *
QUADRANGLE_NAME "MARTINS WELL" 3.45 or 7.5-min. name*
QUADRANT NE quadrant indicator if cell size = 3.75-minutes*
WEST_LONGITUDE -114 56 15.000 signed deg min sec SDDD MM SS.SSS*
EAST_LONGITUDE -114 52 30.000 signed deg min sec SDDD MM SS.SSS*
NORTH_LATITUDE 34 22 30.000 signed deg min sec SDDD MM SS.SSS*
SOUTH_LATITUDE 34 18 45.000 signed deg min sec SDDD MM SS.SSS*
PRODUCTION_DATE 1997 3 19 yyyy mm dd*
RASTER_ORDER LEFT_RIGHT/TOP_BOTTOM video display order*
BAND_ORGANIZATION "SINGLE FILE" single file or BSQ, or BIL or BIP*
BAND_CONTENT BLACK&WHITE black&white or red green blue*
BITS_PER_PIXEL 8 radiometric resolution*
SAMPLES_AND_LINES 6600 7680 number of columns and rows*
HORIZONTAL_DATUM NAD83 primary horizontal datum*
HORIZONTAL_COORDINATE_SYSTEM UTM *
COORDINATE_ZONE 11 coordinate system zone number*
HORIZONTAL_UNITS METERS coordinate system units*
HORIZONTAL_RESOLUTION 1.00 pixel horiz. ground sample distance*
SECONDARY_HORIZONTAL_DATUM NAD27 secondary horizontal datum*
XY_ORIGIN 689250.000 3806100.000 coord. of upper left pixel pri. datum*
SECONDARY_XY_ORIGIN 689328.357 3805904.910 coord upper left pixel sec datum*
NATION US nation code*
STATE CA state fip code*
NW_QUAD_CORNER_XY 689641.321 3805664.174 XY coords. of pri. NW quad corner*
NE_QUAD_CORNER_XY 695388.976 3805782.815 XY coords. of pri. NE quad corner*
SE_QUAD_CORNER_XY 695534.086 3798850.804 XY coords. of pri. SE quad corner*
SW_QUAD_CORNER_XY 689782.157 3798732.264 XY coords. of pri. SW quad corner*
SECONDARY_NW_QUAD_XY 689645.636 3805468.576 XY coords. - sec. NW quad cor.*
SECONDARY_NE_QUAD_XY 695393.422 3805587.220 XY coords. - sec. NE quad cor.*
SECONDARY_SE_QUAD_XY 695538.528 3798655.405 XY coords. - sec. SE quad cor.*
SECONDARY_SW_QUAD_XY 689786.468 3798536.862 XY coords. - sec. SW quad cor.*
RMSE_XY 2.20 doq horiz. accuracy*
IMAGE_SOURCE "BLACK AND WHITE FILM" b&w, cir, natural color, other*
SOURCE_IMAGE_ID "NAPP 6811 219" source image id*
SOURCE_IMAGE_DATE 1994 5 26 source image date as yyyy mm dd*
SOURCE_DEM_DATE 1997 3 19 source dem date yyyy mm dd*
AGENCY "WESTERN MAPPING CENTER (WMC)" oversight agency*
PRODUCER "Analytical Surveys" producer/contractor*
PRODUCTION_SYSTEM "ORBIT OR_RECTIFY V.5.2" production system*
STANDARD_VERSION 1996 12 version of DOQ standard*
METADATA_DATE 1997 11 7 date created or changed, yyyy mm dd*
DATA_FILE_SIZE 50694600 data set size in bytes*
BYTE_COUNT 6600 header byte count* * * * * * * * * * * * * * * * * * * * * * * * * * * * * * * * * * * * * * * *
END_USGS_HEADER *
