BEGIN_USGS_DOQ_HEADER *
QUADRANGLE_NAME "STANDARD WASH" 3.45 or 7.5-min. name*
QUADRANT NE quadrant indicator if cell size = 3.75-minutes*
WEST_LONGITUDE -114 11 15.000 signed deg min sec SDDD MM SS.SSS*
EAST_LONGITUDE -114 7 30.000 signed deg min sec SDDD MM SS.SSS*
NORTH_LATITUDE 34 30 0.000 signed deg min sec SDDD MM SS.SSS*
SOUTH_LATITUDE 34 26 15.000 signed deg min sec SDDD MM SS.SSS*
PRODUCTION_DATE 2000 1 24 yyyy mm dd*
RASTER_ORDER LEFT_RIGHT/TOP_BOTTOM video display order*
BAND_ORGANIZATION "SINGLE FILE" single file or BSQ, or BIL or BIP*
BAND_CONTENT BLACK&WHITE black&white or red green blue*
BITS_PER_PIXEL 8 radiometric resolution*
SAMPLES_AND_LINES 6612 7698 number of columns and rows*
HORIZONTAL_DATUM NAD83 primary horizontal datum*
HORIZONTAL_COORDINATE_SYSTEM UTM *
COORDINATE_ZONE 11 coordinate system zone number*
HORIZONTAL_UNITS METERS coordinate system units*
HORIZONTAL_RESOLUTION 1.00 pixel horiz. ground sample distance*
SECONDARY_HORIZONTAL_DATUM NAD27 secondary horizontal datum*
XY_ORIGIN 757861.000 3821651.000 coord. of upper left pixel pri. datum*
SECONDARY_XY_ORIGIN 757938.932 3821455.651 coord upper left pixel sec datum*
NATION US nation code*
STATE AZ state fip code*
NW_QUAD_CORNER_XY 758234.090 3821188.858 XY coords. of pri. NW quad corner*
NE_QUAD_CORNER_XY 763974.346 3821350.364 XY coords. of pri. NE quad corner*
SE_QUAD_CORNER_XY 764171.417 3814416.797 XY coords. of pri. SE quad corner*
SW_QUAD_CORNER_XY 758426.866 3814255.427 XY coords. of pri. SW quad corner*
SECONDARY_NW_QUAD_XY 758239.987 3820992.908 XY coords. - sec. NW quad cor.*
SECONDARY_NE_QUAD_XY 763980.374 3821154.417 XY coords. - sec. NE quad cor.*
SECONDARY_SE_QUAD_XY 764177.439 3814221.045 XY coords. - sec. SE quad cor.*
SECONDARY_SW_QUAD_XY 758432.758 3814059.671 XY coords. - sec. SW quad cor.*
RMSE_XY 3.30 doq horiz. accuracy*
IMAGE_SOURCE "BLACK AND WHITE FILM" b&w, cir, natural color, other*
SOURCE_IMAGE_ID "NAPP 5317 073" source image id*
SOURCE_IMAGE_DATE 1992 9 13 source image date as yyyy mm dd*
SOURCE_DEM_DATE 1955 0 00 source dem date yyyy mm dd*
AGENCY "WESTERN MAPPING CENTER (WMC)" oversight agency*
PRODUCER "ROCKY MOUNTAIN MAPPING CENTER (RMMC)" *
PRODUCTION_SYSTEM "DV2.6.3 10/9OV2.4 5/95" production system*
STANDARD_VERSION 1996 12 version of DOQ standard*
METADATA_DATE 2000 1 25 date created or changed, yyyy mm dd*
DATA_FILE_SIZE 50905788 data set size in bytes*
BYTE_COUNT 6612 header byte count* * * * * * * * * * * * * * * * * * * * * * * * * * * * * * * * * * * * * * * *
END_USGS_HEADER *
