BEGIN_USGS_DOQ_HEADER *
QUADRANGLE_NAME "LAKE HAVASU CITY SOUTH" 3.45 or 7.5-min. name*
QUADRANT SW quadrant indicator if cell size = 3.75-minutes*
WEST_LONGITUDE -114 22 30.000 signed deg min sec SDDD MM SS.SSS*
EAST_LONGITUDE -114 18 45.000 signed deg min sec SDDD MM SS.SSS*
NORTH_LATITUDE 34 26 15.000 signed deg min sec SDDD MM SS.SSS*
SOUTH_LATITUDE 34 22 30.000 signed deg min sec SDDD MM SS.SSS*
PRODUCTION_DATE 1996 7 17 yyyy mm dd*
RASTER_ORDER LEFT_RIGHT/TOP_BOTTOM video display order*
BAND_ORGANIZATION "SINGLE FILE" single file or BSQ, or BIL or BIP*
BAND_CONTENT BLACK&WHITE black&white or red green blue*
BITS_PER_PIXEL 8 radiometric resolution*
SAMPLES_AND_LINES 6604 7687 number of columns and rows*
HORIZONTAL_DATUM NAD83 primary horizontal datum*
HORIZONTAL_COORDINATE_SYSTEM UTM *
COORDINATE_ZONE 11 coordinate system zone number*
HORIZONTAL_UNITS METERS coordinate system units*
HORIZONTAL_RESOLUTION 1.00 pixel horiz. ground sample distance*
SECONDARY_HORIZONTAL_DATUM NAD27 secondary horizontal datum*
XY_ORIGIN 740820.000 3814244.000 coord. of upper left pixel pri. datum*
SECONDARY_XY_ORIGIN 740898.108 3814048.731 coord upper left pixel sec datum*
NATION US nation code*
STATE CA state fip code*
STATE AZ state fip code*
NW_QUAD_CORNER_XY 741193.875 3813792.647 XY coords. of pri. NW quad corner*
NE_QUAD_CORNER_XY 746938.098 3813943.352 XY coords. of pri. NE quad corner*
SE_QUAD_CORNER_XY 747121.992 3807010.239 XY coords. of pri. SE quad corner*
SW_QUAD_CORNER_XY 741373.483 3806859.661 XY coords. of pri. SW quad corner*
SECONDARY_NW_QUAD_XY 741199.373 3813596.880 XY coords. - sec. NW quad cor.*
SECONDARY_NE_QUAD_XY 746943.727 3813747.590 XY coords. - sec. NE quad cor.*
SECONDARY_SE_QUAD_XY 747127.616 3806814.672 XY coords. - sec. SE quad cor.*
SECONDARY_SW_QUAD_XY 741378.977 3806664.091 XY coords. - sec. SW quad cor.*
RMSE_XY 3.10 doq horiz. accuracy*
IMAGE_SOURCE "BLACK AND WHITE FILM" b&w, cir, natural color, other*
SOURCE_IMAGE_ID "PAPP 1811 404" source image id*
SOURCE_IMAGE_DATE 1994 5 21 source image date as yyyy mm dd*
SOURCE_DEM_DATE 1996 7 17 source dem date yyyy mm dd*
AGENCY "WESTERN MAPPING CENTER (WMC)" oversight agency*
PRODUCER "WMC" producer/contractor*
PRODUCTION_SYSTEM "DV2.6.3 10/9OV2.4 5/95" production system*
STANDARD_VERSION 1996 12 version of DOQ standard*
METADATA_DATE 1997 5 20 date created or changed, yyyy mm dd*
DATA_FILE_SIZE 50771552 data set size in bytes*
BYTE_COUNT 6604 header byte count* * * * * * * * * * * * * * * * * * * * * * * * * * * * * * * * * * * * * * *
END_USGS_HEADER *
