BEGIN_USGS_DOQ_HEADER *
QUADRANGLE_NAME "BUCK MOUNTAINS SE" *
QUADRANT NE *
WEST_LONGITUDE -114 03 45.000 *
EAST_LONGITUDE -114 00 00.000 *
NORTH_LATITUDE 34 37 30.000 *
SOUTH_LATITUDE 34 33 45.000 *
PRODUCTION_DATE 2001 07 12 *
RASTER_ORDER LEFT_RIGHT/TOP_BOTTOM *
BAND_ORGANIZATION "SINGLE FILE" *
BAND_CONTENT BLACK&WHITE *
BITS_PER_PIXEL 8 *
SAMPLES_AND_LINES 6630 7740 *
HORIZONTAL_DATUM NAD83 *
HORIZONTAL_COORDINATE_SYSTEM UTM *
COORDINATE_ZONE 11 *
HORIZONTAL_UNITS METERS *
HORIZONTAL_RESOLUTION 1.000 *
SECONDARY_HORIZONTAL_DATUM NAD27 *
XY_ORIGIN 768930.000 3835860.000 *
SECONDARY_XY_ORIGIN 769007.831 3835664.558 *
NATION US *
STATE AZ *
NW_QUAD_CORNER_XY 769311.016 3835382.997 *
NE_QUAD_CORNER_XY 775042.887 3835551.902 *
SE_QUAD_CORNER_XY 775249.207 3828617.952 *
SW_QUAD_CORNER_XY 769513.026 3828449.186 *
SECONDARY_NW_QUAD_XY 769317.187 3835186.667 *
SECONDARY_NE_QUAD_XY 775049.190 3835355.576 *
SECONDARY_SE_QUAD_XY 775255.503 3828421.819 *
SECONDARY_SW_QUAD_XY 769519.191 3828253.049 *
RMSE_XY 1.250 *
IMAGE_SOURCE "BLACK AND WHITE FILM" *
SOURCE_IMAGE_ID "NAPP 9879 41" *
SOURCE_IMAGE_DATE 1997 05 31 *
SOURCE_DEM_DATE 1969 00 00 *
AGENCY "WESTERN MAPPING CENTER (WMC)" *
PRODUCER "SANBORN COLORADO, L.L.C." *
PRODUCTION_SYSTEM "ORBIT OR_RECTIFY V.5.2" *
STANDARD_VERSION 1996 12 *
METADATA_DATE 2001 07 13 *
DATA_FILE_SIZE 51322830 *
BYTE_COUNT 6630 * * * * * * * * * * * * * * * * * * * * * * * * * * * * * * * * * * * * * * * *
END_USGS_HEADER *
