BEGIN_USGS_DOQ_HEADER *
QUADRANGLE_NAME "LAKE HAVASU CITY NORTH" 3.45 or 7.5-min. name*
QUADRANT NW quadrant indicator if cell size = 3.75-minutes*
WEST_LONGITUDE -114 22 30.000 signed deg min sec SDDD MM SS.SSS*
EAST_LONGITUDE -114 18 45.000 signed deg min sec SDDD MM SS.SSS*
NORTH_LATITUDE 34 37 30.000 signed deg min sec SDDD MM SS.SSS*
SOUTH_LATITUDE 34 33 45.000 signed deg min sec SDDD MM SS.SSS*
PRODUCTION_DATE 2000 1 21 yyyy mm dd*
RASTER_ORDER LEFT_RIGHT/TOP_BOTTOM video display order*
BAND_ORGANIZATION "SINGLE FILE" single file or BSQ, or BIL or BIP*
BAND_CONTENT BLACK&WHITE black&white or red green blue*
BITS_PER_PIXEL 8 radiometric resolution*
SAMPLES_AND_LINES 6588 7688 number of columns and rows*
HORIZONTAL_DATUM NAD83 primary horizontal datum*
HORIZONTAL_COORDINATE_SYSTEM UTM *
COORDINATE_ZONE 11 coordinate system zone number*
HORIZONTAL_UNITS METERS coordinate system units*
HORIZONTAL_RESOLUTION 1.00 pixel horiz. ground sample distance*
SECONDARY_HORIZONTAL_DATUM NAD27 secondary horizontal datum*
XY_ORIGIN 740280.000 3835044.000 coord. of upper left pixel pri. datum*
SECONDARY_XY_ORIGIN 740358.046 3834848.492 coord upper left pixel sec datum*
NATION US nation code*
STATE AZ state fip code*
NW_QUAD_CORNER_XY 740653.327 3834591.940 XY coords. of pri. NW quad corner*
NE_QUAD_CORNER_XY 746384.651 3834743.024 XY coords. of pri. NE quad corner*
SE_QUAD_CORNER_XY 746569.427 3827809.744 XY coords. of pri. SE quad corner*
SW_QUAD_CORNER_XY 740833.797 3827658.786 XY coords. of pri. SW quad corner*
SECONDARY_NW_QUAD_XY 740658.840 3834395.591 XY coords. - sec. NW quad cor.*
SECONDARY_NE_QUAD_XY 746390.296 3834546.679 XY coords. - sec. NE quad cor.*
SECONDARY_SE_QUAD_XY 746575.067 3827613.593 XY coords. - sec. SE quad cor.*
SECONDARY_SW_QUAD_XY 740839.305 3827462.631 XY coords. - sec. SW quad cor.*
RMSE_XY 3.10 doq horiz. accuracy*
IMAGE_SOURCE "BLACK AND WHITE FILM" b&w, cir, natural color, other*
SOURCE_IMAGE_ID "NAPP 5317 131" source image id*
SOURCE_IMAGE_DATE 1992 9 13 source image date as yyyy mm dd*
SOURCE_DEM_DATE 1970 0 00 source dem date yyyy mm dd*
AGENCY "WESTERN MAPPING CENTER (WMC)" oversight agency*
PRODUCER "ROCKY MOUNTAIN MAPPING CENTER (RMMC)" *
PRODUCTION_SYSTEM "DV2.6.3 10/9OV2.4 5/95" production system*
STANDARD_VERSION 1996 12 version of DOQ standard*
METADATA_DATE 2000 1 21 date created or changed, yyyy mm dd*
DATA_FILE_SIZE 50655132 data set size in bytes*
BYTE_COUNT 6588 header byte count* * * * * * * * * * * * * * * * * * * * * * * * * * * * * * * * * * * * * * * *
END_USGS_HEADER *
