BEGIN_USGS_DOQ_HEADER *
QUADRANGLE_NAME "STEPLADDER MOUNTAINS" 3.45 or 7.5-min. name*
QUADRANT NE quadrant indicator if cell size = 3.75-minutes*
WEST_LONGITUDE -114 48 45.000 signed deg min sec SDDD MM SS.SSS*
EAST_LONGITUDE -114 45 0.000 signed deg min sec SDDD MM SS.SSS*
NORTH_LATITUDE 34 37 30.000 signed deg min sec SDDD MM SS.SSS*
SOUTH_LATITUDE 34 33 45.000 signed deg min sec SDDD MM SS.SSS*
PRODUCTION_DATE 1997 3 21 yyyy mm dd*
RASTER_ORDER LEFT_RIGHT/TOP_BOTTOM video display order*
BAND_ORGANIZATION "SINGLE FILE" single file or BSQ, or BIL or BIP*
BAND_CONTENT BLACK&WHITE black&white or red green blue*
BITS_PER_PIXEL 8 radiometric resolution*
SAMPLES_AND_LINES 6600 7710 number of columns and rows*
HORIZONTAL_DATUM NAD83 primary horizontal datum*
HORIZONTAL_COORDINATE_SYSTEM UTM *
COORDINATE_ZONE 11 coordinate system zone number*
HORIZONTAL_UNITS METERS coordinate system units*
HORIZONTAL_RESOLUTION 1.00 pixel horiz. ground sample distance*
SECONDARY_HORIZONTAL_DATUM NAD27 secondary horizontal datum*
XY_ORIGIN 700140.000 3834090.000 coord. of upper left pixel pri. datum*
SECONDARY_XY_ORIGIN 700218.075 3833894.570 coord upper left pixel sec datum*
NATION US nation code*
STATE CA state fip code*
NW_QUAD_CORNER_XY 700536.785 3833634.071 XY coords. of pri. NW quad corner*
NE_QUAD_CORNER_XY 706267.445 3833760.229 XY coords. of pri. NE quad corner*
SE_QUAD_CORNER_XY 706422.089 3826827.766 XY coords. of pri. SE quad corner*
SW_QUAD_CORNER_XY 700687.127 3826701.713 XY coords. of pri. SW quad corner*
SECONDARY_NW_QUAD_XY 700541.378 3833437.701 XY coords. - sec. NW quad cor.*
SECONDARY_NE_QUAD_XY 706272.169 3833563.861 XY coords. - sec. NE quad cor.*
SECONDARY_SE_QUAD_XY 706426.809 3826631.592 XY coords. - sec. SE quad cor.*
SECONDARY_SW_QUAD_XY 700691.716 3826505.536 XY coords. - sec. SW quad cor.*
RMSE_XY 0.60 doq horiz. accuracy*
IMAGE_SOURCE "BLACK AND WHITE FILM" b&w, cir, natural color, other*
SOURCE_IMAGE_ID "NAPP 6798 036" source image id*
SOURCE_IMAGE_DATE 1994 5 21 source image date as yyyy mm dd*
SOURCE_DEM_DATE 1997 3 21 source dem date yyyy mm dd*
AGENCY "WESTERN MAPPING CENTER (WMC)" oversight agency*
PRODUCER "Analytical Surveys" producer/contractor*
PRODUCTION_SYSTEM "ORBIT OR_RECTIFY V.5.2" production system*
STANDARD_VERSION 1996 12 version of DOQ standard*
METADATA_DATE 1997 11 7 date created or changed, yyyy mm dd*
DATA_FILE_SIZE 50892600 data set size in bytes*
BYTE_COUNT 6600 header byte count* * * * * * * * * * * * * * * * * * * * * * * * * * * * * * * * * * * * * * * *
END_USGS_HEADER *
