BEGIN_USGS_DOQ_HEADER *
QUADRANGLE_NAME "MONUMENTAL PASS" 3.45 or 7.5-min. name*
QUADRANT NW quadrant indicator if cell size = 3.75-minutes*
WEST_LONGITUDE -114 45 0.000 signed deg min sec SDDD MM SS.SSS*
EAST_LONGITUDE -114 41 15.000 signed deg min sec SDDD MM SS.SSS*
NORTH_LATITUDE 34 45 0.000 signed deg min sec SDDD MM SS.SSS*
SOUTH_LATITUDE 34 41 15.000 signed deg min sec SDDD MM SS.SSS*
PRODUCTION_DATE 1997 3 21 yyyy mm dd*
RASTER_ORDER LEFT_RIGHT/TOP_BOTTOM video display order*
BAND_ORGANIZATION "SINGLE FILE" single file or BSQ, or BIL or BIP*
BAND_CONTENT BLACK&WHITE black&white or red green blue*
BITS_PER_PIXEL 8 radiometric resolution*
SAMPLES_AND_LINES 6570 7680 number of columns and rows*
HORIZONTAL_DATUM NAD83 primary horizontal datum*
HORIZONTAL_COORDINATE_SYSTEM UTM *
COORDINATE_ZONE 11 coordinate system zone number*
HORIZONTAL_UNITS METERS coordinate system units*
HORIZONTAL_RESOLUTION 1.00 pixel horiz. ground sample distance*
SECONDARY_HORIZONTAL_DATUM NAD27 secondary horizontal datum*
XY_ORIGIN 705570.000 3848070.000 coord. of upper left pixel pri. datum*
SECONDARY_XY_ORIGIN 705648.081 3847874.371 coord upper left pixel sec datum*
NATION US nation code*
STATE CA state fip code*
NW_QUAD_CORNER_XY 705957.419 3847625.336 XY coords. of pri. NW quad corner*
NE_QUAD_CORNER_XY 711679.540 3847755.266 XY coords. of pri. NE quad corner*
SE_QUAD_CORNER_XY 711838.992 3840822.576 XY coords. of pri. SE quad corner*
SW_QUAD_CORNER_XY 706112.555 3840692.752 XY coords. of pri. SW quad corner*
SECONDARY_NW_QUAD_XY 705962.153 3847428.584 XY coords. - sec. NW quad cor.*
SECONDARY_NE_QUAD_XY 711684.406 3847558.518 XY coords. - sec. NE quad cor.*
SECONDARY_SE_QUAD_XY 711843.853 3840626.019 XY coords. - sec. SE quad cor.*
SECONDARY_SW_QUAD_XY 706117.284 3840496.192 XY coords. - sec. SW quad cor.*
RMSE_XY 3.20 doq horiz. accuracy*
IMAGE_SOURCE "BLACK AND WHITE FILM" b&w, cir, natural color, other*
SOURCE_IMAGE_ID "NAPP 6798 071" source image id*
SOURCE_IMAGE_DATE 1994 5 21 source image date as yyyy mm dd*
SOURCE_DEM_DATE 1997 3 21 source dem date yyyy mm dd*
AGENCY "WESTERN MAPPING CENTER (WMC)" oversight agency*
PRODUCER "Analytical Surveys" producer/contractor*
PRODUCTION_SYSTEM "ORBIT OR_RECTIFY V.5.2" production system*
STANDARD_VERSION 1996 12 version of DOQ standard*
METADATA_DATE 1997 11 7 date created or changed, yyyy mm dd*
DATA_FILE_SIZE 50464170 data set size in bytes*
BYTE_COUNT 6570 header byte count* * * * * * * * * * * * * * * * * * * * * * * * * * * * * * * * * * * * * * * *
END_USGS_HEADER *
