BEGIN_USGS_DOQ_HEADER *
QUADRANGLE_NAME "FLATTOP MOUNTAIN" 3.45 or 7.5-min. name*
QUADRANT NW quadrant indicator if cell size = 3.75-minutes*
WEST_LONGITUDE -114 52 30.000 signed deg min sec SDDD MM SS.SSS*
EAST_LONGITUDE -114 48 45.000 signed deg min sec SDDD MM SS.SSS*
NORTH_LATITUDE 34 52 30.000 signed deg min sec SDDD MM SS.SSS*
SOUTH_LATITUDE 34 48 45.000 signed deg min sec SDDD MM SS.SSS*
PRODUCTION_DATE 1997 3 3 yyyy mm dd*
RASTER_ORDER LEFT_RIGHT/TOP_BOTTOM video display order*
BAND_ORGANIZATION "SINGLE FILE" single file or BSQ, or BIL or BIP*
BAND_CONTENT BLACK&WHITE black&white or red green blue*
BITS_PER_PIXEL 8 radiometric resolution*
SAMPLES_AND_LINES 6570 7710 number of columns and rows*
HORIZONTAL_DATUM NAD83 primary horizontal datum*
HORIZONTAL_COORDINATE_SYSTEM UTM *
COORDINATE_ZONE 11 coordinate system zone number*
HORIZONTAL_UNITS METERS coordinate system units*
HORIZONTAL_RESOLUTION 1.00 pixel horiz. ground sample distance*
SECONDARY_HORIZONTAL_DATUM NAD27 secondary horizontal datum*
XY_ORIGIN 693840.000 3861690.000 coord. of upper left pixel pri. datum*
SECONDARY_XY_ORIGIN 693918.029 3861494.286 coord upper left pixel sec datum*
NATION US nation code*
STATE CA state fip code*
NW_QUAD_CORNER_XY 694219.730 3861241.113 XY coords. of pri. NW quad corner*
NE_QUAD_CORNER_XY 699933.030 3861364.113 XY coords. of pri. NE quad corner*
SE_QUAD_CORNER_XY 700084.326 3854431.511 XY coords. of pri. SE quad corner*
SW_QUAD_CORNER_XY 694366.698 3854308.611 XY coords. of pri. SW quad corner*
SECONDARY_NW_QUAD_XY 694224.208 3861043.974 XY coords. - sec. NW quad cor.*
SECONDARY_NE_QUAD_XY 699937.640 3861166.977 XY coords. - sec. NE quad cor.*
SECONDARY_SE_QUAD_XY 700088.932 3854234.566 XY coords. - sec. SE quad cor.*
SECONDARY_SW_QUAD_XY 694371.172 3854111.662 XY coords. - sec. SW quad cor.*
RMSE_XY 2.50 doq horiz. accuracy*
IMAGE_SOURCE "BLACK AND WHITE FILM" b&w, cir, natural color, other*
SOURCE_IMAGE_ID "NAPP 6811 266" source image id*
SOURCE_IMAGE_DATE 1994 5 26 source image date as yyyy mm dd*
SOURCE_DEM_DATE 1997 3 3 source dem date yyyy mm dd*
AGENCY "WESTERN MAPPING CENTER (WMC)" oversight agency*
PRODUCER "Analytical Surveys" producer/contractor*
PRODUCTION_SYSTEM "ORBIT OR_RECTIFY V.5.2" production system*
STANDARD_VERSION 1996 12 version of DOQ standard*
METADATA_DATE 1997 11 10 date created or changed, yyyy mm dd*
DATA_FILE_SIZE 50661270 data set size in bytes*
BYTE_COUNT 6570 header byte count* * * * * * * * * * * * * * * * * * * * * * * * * * * * * * * * * * * * * * * *
END_USGS_HEADER *
