BEGIN_USGS_DOQ_HEADER *
QUADRANGLE_NAME "NEEDLES NW" 3.45 or 7.5-min. name*
QUADRANT SE quadrant indicator if cell size = 3.75-minutes*
WEST_LONGITUDE -114 41 15.000 signed deg min sec SDDD MM SS.SSS*
EAST_LONGITUDE -114 37 30.000 signed deg min sec SDDD MM SS.SSS*
NORTH_LATITUDE 34 56 15.000 signed deg min sec SDDD MM SS.SSS*
SOUTH_LATITUDE 34 52 30.000 signed deg min sec SDDD MM SS.SSS*
PRODUCTION_DATE 1996 4 10 yyyy mm dd*
RASTER_ORDER LEFT_RIGHT/TOP_BOTTOM video display order*
BAND_ORGANIZATION "SINGLE FILE" single file or BSQ, or BIL or BIP*
BAND_CONTENT BLACK&WHITE black&white or red green blue*
BITS_PER_PIXEL 8 radiometric resolution*
SAMPLES_AND_LINES 6548 7672 number of columns and rows*
HORIZONTAL_DATUM NAD83 primary horizontal datum*
HORIZONTAL_COORDINATE_SYSTEM UTM *
COORDINATE_ZONE 11 coordinate system zone number*
HORIZONTAL_UNITS METERS coordinate system units*
HORIZONTAL_RESOLUTION 1.00 pixel horiz. ground sample distance*
SECONDARY_HORIZONTAL_DATUM NAD27 secondary horizontal datum*
XY_ORIGIN 710826.000 3868989.000 coord. of upper left pixel pri. datum*
SECONDARY_XY_ORIGIN 710904.015 3868793.120 coord upper left pixel sec datum*
NATION US nation code*
STATE CA state fip code*
STATE AZ state fip code*
NW_QUAD_CORNER_XY 711199.672 3868553.695 XY coords. of pri. NW quad corner*
NE_QUAD_CORNER_XY 716908.890 3868687.516 XY coords. of pri. NE quad corner*
SE_QUAD_CORNER_XY 717073.436 3861754.539 XY coords. of pri. SE quad corner*
SW_QUAD_CORNER_XY 711359.880 3861620.826 XY coords. of pri. SW quad corner*
SECONDARY_NW_QUAD_XY 711204.550 3868356.376 XY coords. - sec. NW quad cor.*
SECONDARY_NE_QUAD_XY 716913.900 3868490.200 XY coords. - sec. NE quad cor.*
SECONDARY_SE_QUAD_XY 717078.441 3861557.412 XY coords. - sec. SE quad cor.*
SECONDARY_SW_QUAD_XY 711364.754 3861423.696 XY coords. - sec. SW quad cor.*
RMSE_XY 1.00 doq horiz. accuracy*
IMAGE_SOURCE "BLACK AND WHITE FILM" b&w, cir, natural color, other*
SOURCE_IMAGE_ID "NAPP 6798 212" source image id*
SOURCE_IMAGE_DATE 1994 5 21 source image date as yyyy mm dd*
SOURCE_DEM_DATE 1996 4 10 source dem date yyyy mm dd*
AGENCY "WESTERN MAPPING CENTER (WMC)" oversight agency*
PRODUCER "WMC" producer/contractor*
PRODUCTION_SYSTEM "DV2.6.3 10/9OV2.4 5/95" production system*
STANDARD_VERSION 1996 12 version of DOQ standard*
METADATA_DATE 1997 6 19 date created or changed, yyyy mm dd*
DATA_FILE_SIZE 50242804 data set size in bytes*
BYTE_COUNT 6548 header byte count* * * * * * * * * * * * * * * * * * * * * * * * * * * * * * * * * * * * * *
END_USGS_HEADER *
