BEGIN_USGS_DOQ_HEADER *
QUADRANGLE_NAME "EAST OF GRANITE PASS" *
QUADRANT NE *
NORTH_LATITUDE 34 07 30.000 *
WEST_LONGITUDE -115 03 45.000 *
SOUTH_LATITUDE 34 03 45.000 *
EAST_LONGITUDE -115 00 00.000 *
PRODUCTION_DATE 1998 04 07 *
RASTER_ORDER LEFT_RIGHT/TOP_BOTTOM *
BAND_ORGANIZATION BIP *
BAND_CONTENT RED *
BAND_CONTENT GREEN *
BAND_CONTENT BLUE *
BITS_PER_PIXEL 8 *
SAMPLES_AND_LINES 6630 7680 *
HORIZONTAL_DATUM NAD83 *
HORIZONTAL_COORDINATE_SYSTEM UTM *
COORDINATE_ZONE 11 *
HORIZONTAL_UNITS METERS *
HORIZONTAL_RESOLUTION 1.000 *
SECONDARY_HORIZONTAL_DATUM NAD27 *
XY_ORIGIN 678270.000 3778140.000 *
SECONDARY_XY_ORIGIN 678348.735 3777945.256 *
NATION US *
STATE CA *
NW_QUAD_CORNER_XY 678674.140 3777711.039 *
NE_QUAD_CORNER_XY 684438.682 3777822.204 *
SE_QUAD_CORNER_XY 684574.367 3770890.641 *
SW_QUAD_CORNER_XY 678805.579 3770779.573 *
SECONDARY_NW_QUAD_XY 678678.178 3777516.227 *
SECONDARY_NE_QUAD_XY 684442.851 3777627.394 *
SECONDARY_SE_QUAD_XY 684578.531 3770696.030 *
SECONDARY_SW_QUAD_XY 678809.613 3770584.960 *
RMSE_XY 1.194 *
IMAGE_SOURCE "CIR FILM" *
SOURCE_IMAGE_ID "NAPP 9563 98" *
SOURCE_IMAGE_DATE 1996 06 15 *
SOURCE_DEM_DATE 1983 01 01 *
AGENCY "WESTERN MAPPING CENTER (WMC)" *
PRODUCER "ANALYTICAL SURVEYS INC." *
PRODUCTION_SYSTEM "ORBIT OR_RECTIFY V.5.2" *
STANDARD_VERSION 1996 12 *
METADATA_DATE 1998 04 08 *
DATA_FILE_SIZE 152775090 *
BYTE_COUNT 19890 * * * * * * * * * * * * * * * * * * * * * * * * * * * * * * * * * * * * * * * * * * * * * * * * * * * * * * * * * * * * * * * * * * * * * * * * * * * * * * * * * * * * * * * * * * * * * * * * * * * * * * * * * * * * * * * * * * * * * * * * * * * * * * * * * * * * * * * * * * * * * * * * * * * * * * * * * * * * * * * * * * * * * * * * * * * * * * * * * * * * * * * * * * * * * * * * * * * * * * * * * * * *
END_USGS_HEADER *
